BEGIN:VCALENDAR
VERSION:2.0
PRODID:-//www.boc-group.com - ECPv6.15.20//NONSGML v1.0//EN
CALSCALE:GREGORIAN
METHOD:PUBLISH
X-ORIGINAL-URL:https://www.boc-group.com/pl/
X-WR-CALDESC:Wydarzenia dla www.boc-group.com
REFRESH-INTERVAL;VALUE=DURATION:PT1H
X-Robots-Tag:noindex
X-PUBLISHED-TTL:PT1H
BEGIN:VTIMEZONE
TZID:UTC
BEGIN:STANDARD
TZOFFSETFROM:+0000
TZOFFSETTO:+0000
TZNAME:UTC
DTSTART:20250101T000000
END:STANDARD
END:VTIMEZONE
BEGIN:VEVENT
DTSTART;TZID=UTC:20260325T103000
DTEND;TZID=UTC:20260325T110000
DTSTAMP:20260424T144943
CREATED:20260121T090636Z
LAST-MODIFIED:20260319T120235Z
UID:147795-1774434600-1774436400@www.boc-group.com
SUMMARY:BPA & RPA Trends: Jak ADONIS wspiera cyfrową transformację organizacji: procesy\, automatyzacja i AI
DESCRIPTION:Już 25 marca 2026 r. BOC Group weźmie udział w ogólnopolskiej konferencji online BPA & RPA Trends – automatyzacja i robotyzacja procesów biznesowych\, poświęconej najnowszym trendom w zarządzaniu procesami biznesowymi oraz inteligentnej automatyzacji. \nW godzinach 10:30–11:00 wystąpi Zbigniew Misiak\, Senior Consultant w BOC Group\, który zaprezentuje temat: \n„Jak ADONIS wspiera cyfrową transformację organizacji: procesy\, automatyzacja i AI”. \nAutomatyzacja procesów\, wsparcie dla nowych wymogów regulacyjnych\, rola AI – to tylko niektóre z zagadnień\, które sprawiają\, że zarządzanie procesami jest kluczowe w planowaniu i realizacji inicjatyw cyfrowej transformacji. \n\nW tym wystąpieniu pokażemy\, w jaki sposób system ADONIS ułatwia identyfikację procesów do automatyzacji\, jak istniejąca dokumentacja procesowa może być dalej wykorzystywana zarówno przez pracowników\, jak i przez AI poprzez MCP\, oraz jak błyskawicznie i wygodnie dokumentować nowe procesy z pomocą Asystenta AI.\nDodatkowo zostanie przedstawione\, jak można wzbogacić dokumentację procesową o aspekty zarządzania ryzykiem i zgodnością oraz zarządzania architekturą korporacyjną w systemach ADOGRC i ADOIT.\n\nO konferencji \nWydarzenie skupi się na kluczowych obszarach transformacji cyfrowej organizacji\, takich jak Business Process Automation (BPA)\, Robotic Process Automation (RPA)\, hyperautomatyzacja\, sztuczna inteligencja\, process mining oraz data-driven management. Eksperci i praktycy biznesu zaprezentują aktualne kierunki rozwoju automatyzacji oraz rzeczywiste case studies wdrożeń w polskich organizacjach. \nKonferencja jest skierowana do menedżerów\, liderów transformacji cyfrowej\, specjalistów IT oraz wszystkich osób odpowiedzialnych za optymalizację i automatyzację procesów w firmach. \nOrganizatorem wydarzenia jest Instytut Technologii dla Biznesu. \nUdział w wydarzeniu jest bezpłatny – obowiązuje wcześniejsza rejestracja.\nStart wydarzenia: 9:55. \nWięcej informacji o wydarzeniu i szczegółową agendę znadziesz tutaj. \nREJESTRACJA
URL:https://www.boc-group.com/pl/event/bpa-rpa-trends-automatyzacja-i-robotyzacja-procesow-biznesowych/
CATEGORIES:ADONIS
ATTACH;FMTTYPE=image/webp:https://www.boc-group.com/wp-content/uploads/2026/01/BPA-RPA-Trends-–-automation-and-robotisation-of-business-processes_POL.webp
END:VEVENT
END:VCALENDAR