BEGIN:VCALENDAR
VERSION:2.0
PRODID:-//www.boc-group.com - ECPv6.15.20//NONSGML v1.0//EN
CALSCALE:GREGORIAN
METHOD:PUBLISH
X-ORIGINAL-URL:https://www.boc-group.com/pl/
X-WR-CALDESC:Wydarzenia dla www.boc-group.com
REFRESH-INTERVAL;VALUE=DURATION:PT1H
X-Robots-Tag:noindex
X-PUBLISHED-TTL:PT1H
BEGIN:VTIMEZONE
TZID:UTC
BEGIN:STANDARD
TZOFFSETFROM:+0000
TZOFFSETTO:+0000
TZNAME:UTC
DTSTART:20250101T000000
END:STANDARD
END:VTIMEZONE
BEGIN:VEVENT
DTSTART;TZID=UTC:20260513T090000
DTEND;TZID=UTC:20260514T170000
DTSTAMP:20260424T102003
CREATED:20251217T091936Z
LAST-MODIFIED:20260109T082927Z
UID:145407-1778662800-1778778000@www.boc-group.com
SUMMARY:Zarządzanie procesami biznesowymi z systemem ADONIS
DESCRIPTION:Dlaczego warto wziąć udział w szkoleniu? \nJeśli dopiero zaczynasz pracę z systemem ADONIS i chcesz się dowiedzieć\, jak nasze oprogramowanie może pomóc Ci łatwiej osiągać założone cele – jest to szkolenie dla Ciebie. Jeśli natomiast znasz już nasz system – przedstawimy też zaawansowane funkcjonalności\, które użytkownicy nie zawsze odkrywają\, a które pozwalają zaoszczędzić dużo czasu i wysiłku. \nW czasie szkolenia: \n\nPrzechodzimy przez wszystkie moduły systemu ADONIS\, pokazując na praktycznych\, opartych o rzeczywiste scenariusze biznesowe przykładach wszystko czego potrzebujesz\, aby sprawnie zarządzać procesami z użyciem systemu ADONIS.\nPokazujemy częste błędy oraz dobre praktyki tak\, aby uczestnicy w ciągu 2 dni szkolenia uzyskali wiedzę\, której samodzielne zdobycie zajmuje długie miesiące.\n\nAdresaci szkolenia: \n\nPracownicy centrów kompetencji procesowych\nEksperci i specjaliści ds. procesów\nAnalitycy procesów\nUczestnicy projektów procesowych np. Lean\, SixSigma\nMenedżerowie operacyjni\nSpecjaliści IT\n\nZakres szkolenia: \n\nPrzegląd scenariuszy zarządzania procesami\nWprowadzenie do pracy z systemem ADONIS\nModelowanie procesów (mapy procesów\, diagramy procesów biznesowych – BPMN) i zasobów\nAnaliza procesów\nPublikacja procesów\nSymulacja procesów\nMonitoring wskaźników\nDodatkowe scenariusze wykorzystania systemu\nZarządzanie wersjami oraz podstawy administrowania systemem i treścią bazy modeli\n\nCzas trwania: 2 dni (16 godzin) \nForma szkolenia: Zdalnie lub stacjonarnie \nSprawdź także nasze pozostałe szkolenia! \nWięcej informacji i formularz zgłoszeniowy znajdziesz tutaj: \nREJESTRACJA
URL:https://www.boc-group.com/pl/event/zarzadzanie-procesami-biznesowymi-z-systemem-adonis-2/2026-05-13/
LOCATION:Zdalnie/stacjonarnie
CATEGORIES:ADONIS
ATTACH;FMTTYPE=image/jpeg:https://www.boc-group.com/wp-content/uploads/2025/01/Zarzadzanie-procesami-biznesowymi-z-systemem-ADONIS.jpg
END:VEVENT
BEGIN:VEVENT
DTSTART;TZID=UTC:20260514T100000
DTEND;TZID=UTC:20260514T104500
DTSTAMP:20260424T102003
CREATED:20260403T072535Z
LAST-MODIFIED:20260403T092411Z
UID:155833-1778752800-1778755500@www.boc-group.com
SUMMARY:Nie wdrażaj EZD RP w ciemno – rola procesów w cyfrowej transformacji
DESCRIPTION:EZD RP jest kluczowym elementem cyfryzacji polskiej administracji publicznej. Wdrożenie tak obszernego i fundamentalnego systemu powinno być oparte o usystematyzowaną wiedzę o procesach realizowanych w organizacji. \n14 maja 2026 r. zapraszamy na webinar\, podczas którego opowiemy: \n\njak systematyzować wiedzę o procesach w organizacji\,\njak ułatwić wdrażanie EZD RP i innych rozwiązań technologicznych\,\njakie korzyści przynosi zwiększanie świadomości procesowej.\n\nSzczegółowa agenda zostanie udostępniona wkrótce. \nzarejestruj się teraz
URL:https://www.boc-group.com/pl/event/nie-wdrazaj-ezd-rp-w-ciemno-rola-procesow-w-cyfrowej-transformacji/
CATEGORIES:ADONIS
ATTACH;FMTTYPE=image/webp:https://www.boc-group.com/wp-content/uploads/2026/04/Nie-wdrazaj-EZD-RP-w-ciemno-–-rola-procesow-w-cyfrowej-transformacji.webp
END:VEVENT
BEGIN:VEVENT
DTSTART;TZID=UTC:20260916T090000
DTEND;TZID=UTC:20260917T170000
DTSTAMP:20260424T102003
CREATED:20251217T084613Z
LAST-MODIFIED:20260206T123815Z
UID:145292-1789549200-1789664400@www.boc-group.com
SUMMARY:Modelowanie procesów biznesowych w notacji BPMN 2.0 – poziom podstawowy
DESCRIPTION:Dlaczego warto wziąć udział w szkoleniu? \nJeśli chcesz poznać od podstaw notację modelowania BPMN 2.0 i dowiedzieć się\, jak najlepiej modelować procesy w BPMN w systemie ADONIS – jest to szkolenie dla Ciebie. \nW czasie szkolenia uczestnicy poznają różne możliwości wykorzystania notacji BPMN i związane z nimi sposoby modelowania: od modeli dokumentujących proces\, aż do bardziej zaawansowanych modeli wykorzystywany do analiz. \nDodatkowo uczestnicy otrzymują możliwość darmowych konsultacji on-line z trenerem po zakończeniu szkolenia. \nOsoby zainteresowane pogłębionym poznaniem notacji BPMN zapraszamy na czterodniową wersję zaawansowanego szkolenia. \nAdresaci szkolenia \n\nPracownicy centrów kompetencji procesowych\nEksperci i specjaliści ds. procesów\nAnalitycy procesów\nSpecjaliści IT\n\nZakres szkolenia \n\nWprowadzenie do BPMN\nModelowanie opisowe w BPMN\nModelowanie analityczne w BPMN\nMetoda modelowania w BPMN\n\nCzas trwania: 2 dni (16 godzin) \nForma szkolenia: Zdalnie lub stacjonarnie \nSprawdź także nasze pozostałe szkolenia!  \nWięcej informacji i formularz zgłoszeniowy znajdziesz tutaj: \nREJESTRACJA
URL:https://www.boc-group.com/pl/event/modelowanie-procesow-biznesowych-w-notacji-bpmn-2-0-poziom-podstawowy-3/2026-09-16/
LOCATION:Zdalnie/stacjonarnie
CATEGORIES:ADONIS
ATTACH;FMTTYPE=image/jpeg:https://www.boc-group.com/wp-content/uploads/2025/01/Modelowanie-procesow-biznesowych-w-notacji-BPMN-2.0-–-poziom-podstawowy.jpg
END:VEVENT
BEGIN:VEVENT
DTSTART;TZID=UTC:20260923T090000
DTEND;TZID=UTC:20260924T170000
DTSTAMP:20260424T102003
CREATED:20251217T091936Z
LAST-MODIFIED:20260109T082928Z
UID:145408-1790154000-1790269200@www.boc-group.com
SUMMARY:Zarządzanie procesami biznesowymi z systemem ADONIS
DESCRIPTION:Dlaczego warto wziąć udział w szkoleniu? \nJeśli dopiero zaczynasz pracę z systemem ADONIS i chcesz się dowiedzieć\, jak nasze oprogramowanie może pomóc Ci łatwiej osiągać założone cele – jest to szkolenie dla Ciebie. Jeśli natomiast znasz już nasz system – przedstawimy też zaawansowane funkcjonalności\, które użytkownicy nie zawsze odkrywają\, a które pozwalają zaoszczędzić dużo czasu i wysiłku. \nW czasie szkolenia: \n\nPrzechodzimy przez wszystkie moduły systemu ADONIS\, pokazując na praktycznych\, opartych o rzeczywiste scenariusze biznesowe przykładach wszystko czego potrzebujesz\, aby sprawnie zarządzać procesami z użyciem systemu ADONIS.\nPokazujemy częste błędy oraz dobre praktyki tak\, aby uczestnicy w ciągu 2 dni szkolenia uzyskali wiedzę\, której samodzielne zdobycie zajmuje długie miesiące.\n\nAdresaci szkolenia: \n\nPracownicy centrów kompetencji procesowych\nEksperci i specjaliści ds. procesów\nAnalitycy procesów\nUczestnicy projektów procesowych np. Lean\, SixSigma\nMenedżerowie operacyjni\nSpecjaliści IT\n\nZakres szkolenia: \n\nPrzegląd scenariuszy zarządzania procesami\nWprowadzenie do pracy z systemem ADONIS\nModelowanie procesów (mapy procesów\, diagramy procesów biznesowych – BPMN) i zasobów\nAnaliza procesów\nPublikacja procesów\nSymulacja procesów\nMonitoring wskaźników\nDodatkowe scenariusze wykorzystania systemu\nZarządzanie wersjami oraz podstawy administrowania systemem i treścią bazy modeli\n\nCzas trwania: 2 dni (16 godzin) \nForma szkolenia: Zdalnie lub stacjonarnie \nSprawdź także nasze pozostałe szkolenia! \nWięcej informacji i formularz zgłoszeniowy znajdziesz tutaj: \nREJESTRACJA
URL:https://www.boc-group.com/pl/event/zarzadzanie-procesami-biznesowymi-z-systemem-adonis-2/2026-09-23/
LOCATION:Zdalnie/stacjonarnie
CATEGORIES:ADONIS
ATTACH;FMTTYPE=image/jpeg:https://www.boc-group.com/wp-content/uploads/2025/01/Zarzadzanie-procesami-biznesowymi-z-systemem-ADONIS.jpg
END:VEVENT
BEGIN:VEVENT
DTSTART;TZID=UTC:20261007T090000
DTEND;TZID=UTC:20261008T170000
DTSTAMP:20260424T102003
CREATED:20251217T114617Z
LAST-MODIFIED:20251217T114617Z
UID:145432-1791363600-1791478800@www.boc-group.com
SUMMARY:Wdrożenie i rozwój podejścia procesowego w organizacji
DESCRIPTION:Dlaczego warto wziąć udział w szkoleniu? \nW ramach szkolenia przejdziemy przez poszczególne etapy projektu wdrożenia podejścia procesowego\, m.in. powołanie centrum kompetencji procesowych\, zdefiniowanie metody BPM\, budowę architektury procesów i realizację pierwszych projektów. \nOmówimy rolę centrum kompetencji procesowych\, które będzie dostarczało odpowiednich usług całej organizacji we właściwym czasie\, zależnie od stopnia rozwoju kultury procesowej i zaawansowania prac procesowych. \nW związku z tym\, że organizacje o strukturze czysto procesowej są rzadkością\, kładziemy szczególny nacisk na zrozumienie zasad współpracy pomiędzy rolami procesowymi i stanowiskami w funkcjonalnej strukturze organizacyjnej\, w tym z innymi systemami zarządzania (m.in. zarządzanie ryzykiem/zgodnością\, BCM\, QM\, zarządzanie projektami\, zarządzanie strategią) oraz na to\, jak budować zaufanie i dostarczać korzyści całej organizacji. \nAdresaci szkolenia \n\nKierownicy projektów procesowych\nMenedżerowie operacyjni\, właściciele procesów\nDyrektorzy i Pełnomocnicy ds. systemów jakości\nPracownicy centrów kompetencji procesowych\nMenedżerowie odpowiedzialni za rozwój struktur organizacyjnych\nMenedżerowie odpowiedzialni za strategię organizacji\n\nZakres merytoryczny szkolenia \n\nProwadzenie projektu budowy systemu procesowego\nDojrzałość systemu procesowego i zadania na poszczególnych etapach\nCentrum kompetencji procesowych jako agent zmian\nZadania i forma działania centrum kompetencji procesowych\nProcesy nadzorowane i wykonywane przez centrum kompetencji procesowych\nMetodyki\, narzędzia i techniki używane przez centrum kompetencji\nBudowanie procesowej kultury organizacyjnej\n\nCzas trwania: 2 dni (16 godzin) \nForma szkolenia: Zdalnie lub stacjonarnie (biuro BOC Warszawa) \nSprawdź także nasze pozostałe szkolenia! \nWięcej informacji i formularz zgłoszeniowy znajdziesz tutaj: \nREJESTRACJA
URL:https://www.boc-group.com/pl/event/wdrozenie-i-rozwoj-podejscia-procesowego-w-organizacji-2/2026-10-07/
LOCATION:Zdalnie/stacjonarnie
CATEGORIES:ADONIS
ATTACH;FMTTYPE=image/png:https://www.boc-group.com/wp-content/uploads/2025/03/Wdrozenie-i-rozwoj-podejscia-procesowego-w-organizacji-CWS.png
END:VEVENT
BEGIN:VEVENT
DTSTART;TZID=UTC:20261021T090000
DTEND;TZID=UTC:20261022T170000
DTSTAMP:20260424T102003
CREATED:20251217T091936Z
LAST-MODIFIED:20260109T082929Z
UID:145409-1792573200-1792688400@www.boc-group.com
SUMMARY:Zarządzanie procesami biznesowymi z systemem ADONIS
DESCRIPTION:Dlaczego warto wziąć udział w szkoleniu? \nJeśli dopiero zaczynasz pracę z systemem ADONIS i chcesz się dowiedzieć\, jak nasze oprogramowanie może pomóc Ci łatwiej osiągać założone cele – jest to szkolenie dla Ciebie. Jeśli natomiast znasz już nasz system – przedstawimy też zaawansowane funkcjonalności\, które użytkownicy nie zawsze odkrywają\, a które pozwalają zaoszczędzić dużo czasu i wysiłku. \nW czasie szkolenia: \n\nPrzechodzimy przez wszystkie moduły systemu ADONIS\, pokazując na praktycznych\, opartych o rzeczywiste scenariusze biznesowe przykładach wszystko czego potrzebujesz\, aby sprawnie zarządzać procesami z użyciem systemu ADONIS.\nPokazujemy częste błędy oraz dobre praktyki tak\, aby uczestnicy w ciągu 2 dni szkolenia uzyskali wiedzę\, której samodzielne zdobycie zajmuje długie miesiące.\n\nAdresaci szkolenia: \n\nPracownicy centrów kompetencji procesowych\nEksperci i specjaliści ds. procesów\nAnalitycy procesów\nUczestnicy projektów procesowych np. Lean\, SixSigma\nMenedżerowie operacyjni\nSpecjaliści IT\n\nZakres szkolenia: \n\nPrzegląd scenariuszy zarządzania procesami\nWprowadzenie do pracy z systemem ADONIS\nModelowanie procesów (mapy procesów\, diagramy procesów biznesowych – BPMN) i zasobów\nAnaliza procesów\nPublikacja procesów\nSymulacja procesów\nMonitoring wskaźników\nDodatkowe scenariusze wykorzystania systemu\nZarządzanie wersjami oraz podstawy administrowania systemem i treścią bazy modeli\n\nCzas trwania: 2 dni (16 godzin) \nForma szkolenia: Zdalnie lub stacjonarnie \nSprawdź także nasze pozostałe szkolenia! \nWięcej informacji i formularz zgłoszeniowy znajdziesz tutaj: \nREJESTRACJA
URL:https://www.boc-group.com/pl/event/zarzadzanie-procesami-biznesowymi-z-systemem-adonis-2/2026-10-21/
LOCATION:Zdalnie/stacjonarnie
CATEGORIES:ADONIS
ATTACH;FMTTYPE=image/jpeg:https://www.boc-group.com/wp-content/uploads/2025/01/Zarzadzanie-procesami-biznesowymi-z-systemem-ADONIS.jpg
END:VEVENT
BEGIN:VEVENT
DTSTART;TZID=UTC:20261116T090000
DTEND;TZID=UTC:20261117T170000
DTSTAMP:20260424T102003
CREATED:20251217T084613Z
LAST-MODIFIED:20260206T123815Z
UID:145293-1794819600-1794934800@www.boc-group.com
SUMMARY:Modelowanie procesów biznesowych w notacji BPMN 2.0 – poziom podstawowy
DESCRIPTION:Dlaczego warto wziąć udział w szkoleniu? \nJeśli chcesz poznać od podstaw notację modelowania BPMN 2.0 i dowiedzieć się\, jak najlepiej modelować procesy w BPMN w systemie ADONIS – jest to szkolenie dla Ciebie. \nW czasie szkolenia uczestnicy poznają różne możliwości wykorzystania notacji BPMN i związane z nimi sposoby modelowania: od modeli dokumentujących proces\, aż do bardziej zaawansowanych modeli wykorzystywany do analiz. \nDodatkowo uczestnicy otrzymują możliwość darmowych konsultacji on-line z trenerem po zakończeniu szkolenia. \nOsoby zainteresowane pogłębionym poznaniem notacji BPMN zapraszamy na czterodniową wersję zaawansowanego szkolenia. \nAdresaci szkolenia \n\nPracownicy centrów kompetencji procesowych\nEksperci i specjaliści ds. procesów\nAnalitycy procesów\nSpecjaliści IT\n\nZakres szkolenia \n\nWprowadzenie do BPMN\nModelowanie opisowe w BPMN\nModelowanie analityczne w BPMN\nMetoda modelowania w BPMN\n\nCzas trwania: 2 dni (16 godzin) \nForma szkolenia: Zdalnie lub stacjonarnie \nSprawdź także nasze pozostałe szkolenia!  \nWięcej informacji i formularz zgłoszeniowy znajdziesz tutaj: \nREJESTRACJA
URL:https://www.boc-group.com/pl/event/modelowanie-procesow-biznesowych-w-notacji-bpmn-2-0-poziom-podstawowy-3/2026-11-16/
LOCATION:Zdalnie/stacjonarnie
CATEGORIES:ADONIS
ATTACH;FMTTYPE=image/jpeg:https://www.boc-group.com/wp-content/uploads/2025/01/Modelowanie-procesow-biznesowych-w-notacji-BPMN-2.0-–-poziom-podstawowy.jpg
END:VEVENT
END:VCALENDAR