BEGIN:VCALENDAR
VERSION:2.0
PRODID:-//www.boc-group.com - ECPv6.15.16//NONSGML v1.0//EN
CALSCALE:GREGORIAN
METHOD:PUBLISH
X-WR-CALNAME:www.boc-group.com
X-ORIGINAL-URL:https://www.boc-group.com/es/
X-WR-CALDESC:Eventos para www.boc-group.com
REFRESH-INTERVAL;VALUE=DURATION:PT1H
X-Robots-Tag:noindex
X-PUBLISHED-TTL:PT1H
BEGIN:VTIMEZONE
TZID:UTC
BEGIN:STANDARD
TZOFFSETFROM:+0000
TZOFFSETTO:+0000
TZNAME:UTC
DTSTART:20230101T000000
END:STANDARD
END:VTIMEZONE
BEGIN:VEVENT
DTSTART;TZID=UTC:20240314T083000
DTEND;TZID=UTC:20240314T133000
DTSTAMP:20260419T164231
CREATED:20240208T144339Z
LAST-MODIFIED:20240312T103719Z
UID:87330-1710405000-1710423000@www.boc-group.com
SUMMARY:Madrid Info Day 2024
DESCRIPTION:El éxito en la era digital significa transformación y crecimiento constantes. \nNavegar por las complejidades en el negocio y evolucionar para adelantarse a la disrupción es la realidad que enfrentan todas las empresas hoy en día. \n¿Quiere saber cómo las organizaciones líderes han aprovechado la #GestióndeProcesosdeNegocio y la #ArquitecturaEmpresarial para impulsar la innovación de forma continuada y con un éxito sostenido? Únase a nosotros en el BOC InfoDay Madrid 2024\, el 14 de marzo de 8:30 a 13:30\, y déjese inspirar por las historias de las reales de empresas lider. \nEscuche además\, las opiniones exclusivas de expertos en la industria y benefíciese de sus experiencias para impulsar sus iniciativas digitales. \nAgenda\n\n\n\n\n\nHorario\nPresentador\nEmpresa\nPresentación/Espacio\n\n\n\n\n08:45 – 09:15\n–\n–\nRegistro\, bienvenida y café\n\n\n09:15 – 09:55\nMaría José Álvarez Blázquez\nControlling & Planning Director\nSavills España\nReinventando el Real Estate: La apuesta de Savills por la Excelencia en la Gestión de Procesos\n\n\n09:55 – 10:30\nReinaldo Hoffman\nPartner Success Director\nBOC Group\nReceta para automatizar procesos de negocio de forma racional\n\n\n10:30 – 11:00\nEnrique Lobo\nManaging Director | IBAM\nBPM & EA Professional\nBOC Group\nDemo de ADONIS Process Automation\n\n\n11:00 – 11:45\n–\n–\nPausa para café y networking\n\n\n11:45 – 12:30\nAna Pérez Clemente\nPM & BPM Consultant\niterem\nCaso de éxito en industria farmacéutica: Cómo logró una estrategia de procesos en 6 meses\n\n\n12:30 – 13:15\nDavid Orensanz\nManaging Director | IBAM\nBOC Group\nUltimos desarollos y novedades que vendrán a ADONIS en 2024\n\n\n13:15 – 13:45\nMesa Redonda\nVarios\n¿Por qué fallan la mayoría de los proyectos de automatización de procesos?\n\n\n13:45 – 14:00\n–\n–\nResumen y cierre del evento\n\n\n\n\nRegístrese hoy\n\n                \n                        \n                             \n                        \n                        URLEste campo es un campo de validación y debe quedar sin cambios.Form of address*Tratamiento *Sra.Sr.Nombre*Last Name*Email*\n                            \n                        Organization/Company*Este campo está oculto cuando se visualiza el formularioSala de AE con ADOITCountry*País *AfghanistanAlbaniaAlgeriaAmerican SamoaAndorraAngolaAntigua and BarbudaArgentinaArmeniaAustraliaAustriaAzerbaijanBahamasBahrainBangladeshBarbadosBelarusBelgiumBelizeBeninBermudaBhutanBoliviaBosnia and HerzegovinaBotswanaBrazilBruneiBulgariaBurkina FasoBurundiCambodiaCameroonCanadaCape VerdeCayman IslandsCentral African RepublicChadChileChinaColombiaComorosCongo\, Democratic Republic of theCongo\, Republic of theCosta RicaCroatiaCubaCuraçaoCyprusCzech RepublicCôte d'IvoireDenmarkDjiboutiDominicaDominican RepublicEast TimorEcuadorEgyptEl SalvadorEquatorial GuineaEritreaEstoniaEthiopiaFaroe IslandsFijiFinlandFranceFrench PolynesiaGabonGambiaGeorgiaGermanyGhanaGreeceGreenlandGrenadaGuamGuatemalaGuineaGuinea-BissauGuyanaHaitiHondurasHong KongHungaryIcelandIndiaIndonesiaIranIraqIrelandIsraelItalyJamaicaJapanJordanKazakhstanKenyaKiribatiKosovoKuwaitKyrgyzstanLaosLatviaLebanonLesothoLiberiaLibyaLiechtensteinLithuaniaLuxembourgMacedoniaMadagascarMalawiMalaysiaMaldivesMaliMaltaMarshall IslandsMauritaniaMauritiusMexicoMicronesiaMoldovaMonacoMongoliaMontenegroMoroccoMozambiqueMyanmarNamibiaNauruNepalNetherlandsNew ZealandNicaraguaNigerNigeriaNorth KoreaNorthern Mariana IslandsNorwayOmanPakistanPalauPalestine\, State ofPanamaPapua New GuineaParaguayPeruPhilippinesPolandPortugalPuerto RicoQatarRomaniaRussiaRwandaSaint Kitts and NevisSaint LuciaSaint Vincent and the GrenadinesSamoaSan MarinoSao Tome and PrincipeSaudi ArabiaSenegalSerbiaSeychellesSierra LeoneSingaporeSint MaartenSlovakiaSloveniaSolomon IslandsSomaliaSouth AfricaSouth KoreaSpainSri LankaSudanSudan\, SouthSurinameSwazilandSwedenSwitzerlandSyriaTaiwanTajikistanTanzaniaThailandTogoTongaTrinidad and TobagoTunisiaTurkeyTurkmenistanTuvaluUgandaUkraineUnited Arab EmiratesUnited KingdomUnited StatesUruguayUzbekistanVanuatuVatican CityVenezuelaVietnamVirgin Islands\, BritishVirgin Islands\, U.S.YemenZambiaZimbabwePhoneEste campo está oculto cuando se visualiza el formularioRAT LocationIch werde an der Veranstaltung teilnehmen inMessageTérminos y condiciones*\n								\n								Al enviar esta solicitud\, acepto los términos y condiciones y la política de privacidad de BOC Group.
URL:https://www.boc-group.com/es/event/madrid-info-day-2024__trashed/
LOCATION:Comet Meetings Alfonso XII\, 30 28014. Madrid
CATEGORIES:ADONIS
ATTACH;FMTTYPE=image/png:https://www.boc-group.com/wp-content/uploads/2024/02/BOC-InfoDay-Madrid-2024-Banner.png
END:VEVENT
END:VCALENDAR