BEGIN:VCALENDAR
VERSION:2.0
PRODID:-//www.boc-group.com - ECPv6.15.16//NONSGML v1.0//EN
CALSCALE:GREGORIAN
METHOD:PUBLISH
X-WR-CALNAME:www.boc-group.com
X-ORIGINAL-URL:https://www.boc-group.com/es/
X-WR-CALDESC:Eventos para www.boc-group.com
REFRESH-INTERVAL;VALUE=DURATION:PT1H
X-Robots-Tag:noindex
X-PUBLISHED-TTL:PT1H
BEGIN:VTIMEZONE
TZID:UTC
BEGIN:STANDARD
TZOFFSETFROM:+0000
TZOFFSETTO:+0000
TZNAME:UTC
DTSTART:20240101T000000
END:STANDARD
END:VTIMEZONE
BEGIN:VEVENT
DTSTART;TZID=UTC:20250612T173000
DTEND;TZID=UTC:20250612T183000
DTSTAMP:20260419T170158
CREATED:20250604T133909Z
LAST-MODIFIED:20250604T133909Z
UID:127177-1749749400-1749753000@www.boc-group.com
SUMMARY:ADONIS Customer Day: Conoce lo nuevo de ADONIS 17
DESCRIPTION:Te damos la bienvenida a este evento digital exclusivo para clientes y partners de ADONIS. \nEn esta edición\, te presentamos ADONIS 17\, la nueva versión que redefine cómo se diseñan\, analizan y mejoran los procesos empresariales. \n¿Qué vas a ver? \n\nAsistente de IA integrado: modela y analiza procesos en segundos\nProcess Drafter: crea procesos simples sin saber BPMN\nProcess Mining Essentials: descubre cómo se ejecutan realmente tus procesos\n\nUna sesión clara\, directa y centrada en lo que puedes aplicar desde ya. \n? Jueves\, 12 de junio de 2025 \n? 17:30 – 18:30 (hora de España) \nHorarios locales:\n?? 09:30 – 11:30 México\n?? ?? 10:30 – 12:30 Colombia / Perú\n?? ?? 11:30 – 13:30 Chile / Bolivia\n?? ?? 12:30 – 14:30 Argentina / Uruguay \n? Online – Microsoft Teams \nregístrese ahora
URL:https://www.boc-group.com/es/event/adonis-customer-day-conoce-lo-nuevo-de-adonis-17/
LOCATION:BOC IBAM
CATEGORIES:ADONIS
ATTACH;FMTTYPE=image/jpeg:https://www.boc-group.com/wp-content/uploads/2025/06/ADONIS-Customer-Day-Conoce-lo-nuevo-de-ADONIS-17.jpg
END:VEVENT
END:VCALENDAR