BEGIN:VCALENDAR
VERSION:2.0
PRODID:-//www.boc-group.com - ECPv6.15.20//NONSGML v1.0//EN
CALSCALE:GREGORIAN
METHOD:PUBLISH
X-WR-CALNAME:www.boc-group.com
X-ORIGINAL-URL:https://www.boc-group.com/en/
X-WR-CALDESC:Events for www.boc-group.com
REFRESH-INTERVAL;VALUE=DURATION:PT1H
X-Robots-Tag:noindex
X-PUBLISHED-TTL:PT1H
BEGIN:VTIMEZONE
TZID:UTC
BEGIN:STANDARD
TZOFFSETFROM:+0000
TZOFFSETTO:+0000
TZNAME:UTC
DTSTART:20250101T000000
END:STANDARD
END:VTIMEZONE
BEGIN:VEVENT
DTSTART;VALUE=DATE:20260126
DTEND;VALUE=DATE:20260129
DTSTAMP:20260424T023146
CREATED:20251002T113104Z
LAST-MODIFIED:20251002T121855Z
UID:137348-1769385600-1769644799@www.boc-group.com
SUMMARY:27th Annual Business Transformation World Summit
DESCRIPTION:BOC Group will be attending the 27th Annual Business Transformation World Summit\, taking place in Miami\, January 26–28\, 2026. \nWith Agentic & AI transformation placed at the heart of a human-centric transformation experience\, this year’s gathering is set to redefine the conversation on the future of business and technology. \nBOC Group will be attending the event together with one of our valued clients\, Bristol Myers Squibb (BMS). We are proud to share that Ashley Beal\, Director\, BPM\, Strategy Realization Office & OPEX at BMS\, will be among the key speakers at the Summit\, offering valuable insights into advancing business transformation and operational excellence. \nWe are looking forward to joining this milestone event in Miami\, engaging with industry peers\, and exploring the future of transformation! \nLearn more
URL:https://www.boc-group.com/en/event/27th-annual-business-transformation-world-summit/
LOCATION:Miami\, Florida\, United States
CATEGORIES:ADONIS
ATTACH;FMTTYPE=image/webp:https://www.boc-group.com/wp-content/uploads/2025/10/27th-Annual-Business-Transformation-World-Summit.webp
END:VEVENT
END:VCALENDAR