BEGIN:VCALENDAR
VERSION:2.0
PRODID:-//www.boc-group.com - ECPv6.15.20//NONSGML v1.0//EN
CALSCALE:GREGORIAN
METHOD:PUBLISH
X-WR-CALNAME:www.boc-group.com
X-ORIGINAL-URL:https://www.boc-group.com/de/
X-WR-CALDESC:Veranstaltungen für www.boc-group.com
REFRESH-INTERVAL;VALUE=DURATION:PT1H
X-Robots-Tag:noindex
X-PUBLISHED-TTL:PT1H
BEGIN:VTIMEZONE
TZID:UTC
BEGIN:STANDARD
TZOFFSETFROM:+0000
TZOFFSETTO:+0000
TZNAME:UTC
DTSTART:20250101T000000
END:STANDARD
END:VTIMEZONE
BEGIN:VEVENT
DTSTART;TZID=UTC:20260414T100000
DTEND;TZID=UTC:20260414T160000
DTSTAMP:20260424T201205
CREATED:20260217T092908Z
LAST-MODIFIED:20260217T092908Z
UID:150570-1776160800-1776182400@www.boc-group.com
SUMMARY:PROCESS DAY DER GESELLSCHAFT FÜR PROZESSMANAGEMENT: PzM IM GESUNDHEITSWESEN
DESCRIPTION:PROCESS DAY: PzM IM GESUNDHEITSWESEN\n14. April // 10:00 – 16:00 Uhr // Wien\nVeranstalter: Gesellschaft für Prozessmanagement \nDer PROCESS DAY: PzM IM GESUNDHEITSWESEN bringt Expert:innen aus dem Gesundheitssektor zusammen\, um aktuelle Entwicklungen\, innovative Ansätze und praxiserprobte Lösungen im Prozessmanagement zu diskutieren. Freuen Sie sich auf einen intensiven Austausch zu interdisziplinärer Prozessmodellierung\, Machine-Learning-gestützter Qualitätsarbeit\, normgerechter Dokumentenlenkung und organisationsübergreifender Zusammenarbeit. \nEin besonderes Highlight: Der gemeinsame Vortrag der BOC Group mit ihrem langjährigen Kunden MED-EL zur Integration robotergestützter Cochlea-Implantationssysteme in den klinischen Ablauf. \n13:45 – 14:30 Uhr \nProzessmanagement der robotergestützten Cochlea-Implantation:\nIntegration und Optimierung von Hearo und Otodrive in den klinischen Ablauf \nDie robotergestützte Cochlea-Implantation (CI) markiert einen bedeutenden Fortschritt in der minimal-invasiven CI-Chirurgie. Mit der deutschlandweit erstmaligen Verwendung von Hearo wurde zeitgleich ein strukturierter Workflow für das Prozessmanagement im Versorgungsablauf entwickelt. \nIm Fokus stand die gezielte Prozessoptimierung für den klinischen Einsatz – von der präoperativen Planung über die intraoperative Integration bis hin zur postoperativen Nachsorge. Auch die Einführung des Otodrive-Systems erfolgte unter konsequenter Begleitung durch professionelles Prozessmanagement. \nDer Vortrag zeigt praxisnah\, wie innovative Medizintechnologie erfolgreich in bestehende Klinikprozesse integriert werden kann – strukturiert\, interdisziplinär und nachhaltig. \nVortragende: \n\nKlaus Schartner\, Business Process Manager\, MED-EL\nThomas Böckl\, Senior Management Consultant\, BOC Group\n\nWeitere ausgewählte Themen des PROCESS DAY: \n\nInterdisziplinäre Prozessmodellierung im Akutspital: Erfolgsfaktoren für praxistaugliche\, akzeptierte Prozesse\nMachine Learning im Prozess- und Qualitätsmanagement: datenbasierte Risikoabschätzung & Benchmarking\nDokumentenlenkung mit Microsoft 365: effiziente\, normgerechte Umsetzung im Gesundheitswesen\nProzessmanagement der robotergestützten Cochlea-Implantation: Integration neuer Technologien in den Klinikablauf\nProzessmanagement als Kommunikation & Zusammenarbeit: Learnings aus einem Jahr Organisationsentwicklung\n\nDetails & Anmeldung:\nwww.prozesse.at/veranstaltungen/#processday \nNutzen Sie die Gelegenheit\, sich mit Fachkolleg:innen zu vernetzen und Impulse für Ihr Prozessmanagement im Gesundheitswesen mitzunehmen.
URL:https://www.boc-group.com/de/event/process-day-der-gesellschaft-fuer-prozessmanagement-pzm-im-gesundheitswesen/
LOCATION:Zoku Vienna\, Perspektivstrasse 6\, 1020 Wien
CATEGORIES:ADONIS
ATTACH;FMTTYPE=image/webp:https://www.boc-group.com/wp-content/uploads/2026/02/PROCESS-DAY-DER-GESELLSCHAFT-FUR-PROZESSMANAGEMENT_-PzM-IM-GESUNDHEITSWESEN.webp
END:VEVENT
END:VCALENDAR