BEGIN:VCALENDAR
VERSION:2.0
PRODID:-//www.boc-group.com - ECPv6.15.20//NONSGML v1.0//EN
CALSCALE:GREGORIAN
METHOD:PUBLISH
X-WR-CALNAME:www.boc-group.com
X-ORIGINAL-URL:https://www.boc-group.com/de/
X-WR-CALDESC:Veranstaltungen für www.boc-group.com
REFRESH-INTERVAL;VALUE=DURATION:PT1H
X-Robots-Tag:noindex
X-PUBLISHED-TTL:PT1H
BEGIN:VTIMEZONE
TZID:UTC
BEGIN:STANDARD
TZOFFSETFROM:+0000
TZOFFSETTO:+0000
TZNAME:UTC
DTSTART:20240101T000000
END:STANDARD
END:VTIMEZONE
BEGIN:VEVENT
DTSTART;TZID=UTC:20250926T140000
DTEND;TZID=UTC:20250926T180000
DTSTAMP:20260425T001119
CREATED:20250729T154308Z
LAST-MODIFIED:20250814T122327Z
UID:131256-1758895200-1758909600@www.boc-group.com
SUMMARY:Wie GenAI und Process Intelligence das Prozessmanagement revolutionieren
DESCRIPTION:Erleben Sie\, wie KI-gestützte Technologien das Prozessmanagement grundlegend verändern. Wir zeigen praxisnahe Use Cases und geben Einblicke\, wie datenbasierte Ansätze Prozesse intelligenter und effizienter machen. \nAgenda: \n14:00 – Im Inneren des Prozesses: Rollen\, Dynamiken und Entscheidungen\nProf. Dr. Thomas Grisold\, WU Wien \n14:30 – SAP Business AI & AI Discovery Workshops mit PwC Österreich – wie neue Use Cases den Arbeitssplit zwischen Mensch und Maschine verändern\, Effizienz verbessern und Qualität steigern\nDr. Stefan Müller\, PwC Österreich\, Director Technology Consulting\, SAP Consulting Leader \n15:00 – Prozessmanagement neu gedacht: wie Künstliche Intelligenz in ADONIS alle Key-Stakeholder im GPM beflügelt\nTobias Rausch\, Head of Product Management ADONIS\, BOC Group \n15:30 – Kaffeepause \n16:00 – A framework for Causal Process Intelligence\nDr. Niyi Ogunbiyi\, Managing Director\, Change Enablers Ltd \n16:30 – Vertrauen ist gut\, Kontrolle ist besser: Datenrepräsentativität als zentraler Faktor vertrauenswürdiger Prozessanalysen\nDr. Martin Kabierski\, Universität Wien \n17:00 – Generative Process Intelligence: Warum Kontextwissen essentiell für effizientere und zielgenauere KI-Agenten ist\nDr. Lukas Pfahlsberger\, Noreja Intelligence GmbH \nFür wen?\nFür Akademiker:innen\, Projektleitende und Prozessverantwortliche – insbesondere an der Schnittstelle zwischen Forschung\, Analyse und Anwendung. \nDie Teilnahme ist kostenlos. Die Plätze sind begrenzt.\nJetzt anmelden und Zukunft mitgestalten! \nJetzt anmelden
URL:https://www.boc-group.com/de/event/wie-genai-und-process-intelligence-das-prozessmanagement-revolutionieren-2/
LOCATION:WU Wien (Raum EA.0.024)
CATEGORIES:ADONIS
ATTACH;FMTTYPE=image/png:https://www.boc-group.com/wp-content/uploads/2025/07/Wie-GenAI-und-Process-Intelligence-das-Prozessmanagement-revolutionieren_GER-event-with-Noreja.png
END:VEVENT
END:VCALENDAR