BEGIN:VCALENDAR
VERSION:2.0
PRODID:-//www.boc-group.com - ECPv6.15.20//NONSGML v1.0//EN
CALSCALE:GREGORIAN
METHOD:PUBLISH
X-WR-CALNAME:www.boc-group.com
X-ORIGINAL-URL:https://www.boc-group.com/de/
X-WR-CALDESC:Veranstaltungen für www.boc-group.com
REFRESH-INTERVAL;VALUE=DURATION:PT1H
X-Robots-Tag:noindex
X-PUBLISHED-TTL:PT1H
BEGIN:VTIMEZONE
TZID:UTC
BEGIN:STANDARD
TZOFFSETFROM:+0000
TZOFFSETTO:+0000
TZNAME:UTC
DTSTART:20240101T000000
END:STANDARD
END:VTIMEZONE
BEGIN:VEVENT
DTSTART;VALUE=DATE:20250318
DTEND;VALUE=DATE:20250320
DTSTAMP:20260425T001121
CREATED:20250206T143944Z
LAST-MODIFIED:20250206T143944Z
UID:115562-1742256000-1742428799@www.boc-group.com
SUMMARY:Digitaler Staat 2025 - Digitale Verwaltung geht auf Sendung
DESCRIPTION:Diese Veranstaltung findet an zwei Tagen statt:\n 18. März 2025\, von 08:30 bis 18:20 & 19. März 2025\, von 09:00 bis 16:55 \nDer Digitale Staat ist der etablierteste Kongress im Umfeld von IT und Verwaltungsmodernisierung. Das zweitägige Event verzeichnete 2024 rund 3.000 Teilnehmende. Der digitale Transformationsprozess der öffentlichen Verwaltung bei Bund\, Ländern und Kommunen ist eine zentrale Daueraufgabe auf allen föderalen Ebenen. Der Kongress bietet innovative Lösungen und praxisnahe Konzepte an. In Foren und Workshops werden Themen tiefgreifend debattiert und bearbeitet\, um der Verwaltung Szenarien für den Praxisalltag anbieten zu können. Eine begleitende Fachausstellung zeigt Lösungen für Projekt- und Digitalisierungsverantwortliche sowie Anwendungen in Behörden. \nJetzt anmelden
URL:https://www.boc-group.com/de/event/digitaler-staat-2025-digitale-verwaltung-geht-auf-sendung/
LOCATION:Vienna House Andel’s Berlin
CATEGORIES:ADONIS
ATTACH;FMTTYPE=image/jpeg:https://www.boc-group.com/wp-content/uploads/2025/02/CWS-Digitaler-Staat-2025.jpg
END:VEVENT
END:VCALENDAR