BEGIN:VCALENDAR
VERSION:2.0
PRODID:-//www.boc-group.com - ECPv6.15.20//NONSGML v1.0//EN
CALSCALE:GREGORIAN
METHOD:PUBLISH
X-ORIGINAL-URL:https://www.boc-group.com/de/
X-WR-CALDESC:Veranstaltungen für www.boc-group.com
REFRESH-INTERVAL;VALUE=DURATION:PT1H
X-Robots-Tag:noindex
X-PUBLISHED-TTL:PT1H
BEGIN:VTIMEZONE
TZID:UTC
BEGIN:STANDARD
TZOFFSETFROM:+0000
TZOFFSETTO:+0000
TZNAME:UTC
DTSTART:20240101T000000
END:STANDARD
END:VTIMEZONE
BEGIN:VEVENT
DTSTART;VALUE=DATE:20250911
DTEND;VALUE=DATE:20250912
DTSTAMP:20260425T001130
CREATED:20250225T084610Z
LAST-MODIFIED:20250311T142506Z
UID:117687-1757548800-1757635199@www.boc-group.com
SUMMARY:Business Excellence Circle Wien 2025
DESCRIPTION:Das einzigartige Netzwerk-Event für Austausch\, Inspiration & neue Perspektiven – exklusiv für BOC-Kund:innen! \nDer Business Excellence Circle Wien 2025 ist eine Plattform\, die Expert:innen aus den Bereichen Geschäftsprozessmanagement (GPM)\, Enterprise Architecture Management (EAM) und Governance\, Risk & Compliance (GRC) vereint\, um praxisnahe Best Practices\, innovative Lösungen und wertvolle Erfahrungen zu teilen. \nAm 11. September 2025 lädt die BOC Österreich in das prachtvolle Schloss Schönbrunn in Wien ein – zum jährlichen Treffpunkt der BOC Community! Erleben Sie einen Tag voller Innovation\, Wissen und Networking und profitieren Sie von einzigartigen Einblicken in die Praxis erfolgreicher Unternehmen. \nWarum Sie dabei sein sollten: \nExklusiver Austausch in der BOC Community – Treffen Sie Gleichgesinnte\, diskutieren Sie aktuelle Herausforderungen und profitieren Sie von der geballten Expertise der Community. \nSpannende Best Practices & Erfolgsprojekte – Erhalten Sie wertvolle Einblicke in bewährte Strategien und innovative Lösungen\, präsentiert von unseren Kund:innen. \nInteraktive Sessions & Live-Demos – Vertiefen Sie Ihr Wissen rund um ADONIS\, ADOIT und ADOGRC und erleben Sie praxisnahe Anwendungen aus erster Hand. \nEin starkes Netzwerk – Knüpfen Sie wertvolle Kontakte zu Entscheidungsträger:innen und Fachexpert:innen aus verschiedensten Branchen. \nTop-aktuelle Themen im Fokus – Diskutieren Sie mit führenden Expert:innen über die neuesten Entwicklungen in DORA\, NIS2\, ESG und KI und erfahren Sie\, wie Unternehmen diese Herausforderungen erfolgreich meistern. \nNutzen Sie diese Gelegenheit\, sich mit BOC-Expert:innen und Fachkolleg:innen aus unserem Kundenkreis auszutauschen\, neue Perspektiven zu gewinnen und Ihr Unternehmen gezielt weiterzuentwickeln. \nLassen Sie den Tag in einer der schönsten historischen Kulissen Österreichs ausklingen. In entspannter Atmosphäre haben Sie die Möglichkeit\, Ihr Netzwerk zu vertiefen und wertvolle Gespräche zu führen – ein perfekter Abschluss eines inspirierenden Tages! \nDie BOC freut sich darauf\, Sie persönlich willkommen zu heißen\, sich mit Ihnen auszutauschen und gemeinsam einen bereichernden Tag voller Dialog\, kreativer Impulse und frischer Blickwinkel zu erleben! \nSichern Sie sich jetzt Ihren Platz und seien Sie dabei! \nJetzt anmelden
URL:https://www.boc-group.com/de/event/business-excellence-circle-wien-2025/
LOCATION:Schloss Schönbrunn\, 1130 Wien
CATEGORIES:ADONIS,ADOIT,ADOGRC
ATTACH;FMTTYPE=image/jpeg:https://www.boc-group.com/wp-content/uploads/2025/02/Open-Day-2025-v03.jpg
END:VEVENT
END:VCALENDAR