BEGIN:VCALENDAR
VERSION:2.0
PRODID:-//www.boc-group.com - ECPv6.15.16//NONSGML v1.0//EN
CALSCALE:GREGORIAN
METHOD:PUBLISH
X-WR-CALNAME:www.boc-group.com
X-ORIGINAL-URL:https://www.boc-group.com/de/
X-WR-CALDESC:Veranstaltungen für www.boc-group.com
REFRESH-INTERVAL;VALUE=DURATION:PT1H
X-Robots-Tag:noindex
X-PUBLISHED-TTL:PT1H
BEGIN:VTIMEZONE
TZID:UTC
BEGIN:STANDARD
TZOFFSETFROM:+0000
TZOFFSETTO:+0000
TZNAME:UTC
DTSTART:20240101T000000
END:STANDARD
END:VTIMEZONE
BEGIN:VEVENT
DTSTART;TZID=UTC:20250924T093000
DTEND;TZID=UTC:20250924T160000
DTSTAMP:20260419T170245
CREATED:20250512T143750Z
LAST-MODIFIED:20250526T084757Z
UID:125201-1758706200-1758729600@www.boc-group.com
SUMMARY:GRC Excellence Circle FRANKFURT 2025
DESCRIPTION:Tauchen Sie ein in die Welt von GRC\, Compliance und operationellen Risiken! Unsere Veranstaltung bringt führende Expert:innen zusammen\, um u.a. Best Practices im Compliance\, dem Internen Kontrollsystem (IKS) und Business Continuity Management (BCM) zu diskutieren. Freuen Sie sich auf einen inspirierenden Austausch und wertvolle Einblicke in aktuelle Herausforderungen und Lösungsansätze mit unserer Lösung: ADOGRC. Erleben Sie das inspirierende „Network & Exchange“ in Frankfurt! \nIm Mittelpunkt: Das Thema Compliance. \nWas Sie erwartet: \n\nFesselnde\, interaktive Vorträge unserer Kund:innen sowie von ausgewählten Partnern \n\nExklusive Einblicke\, Neuerungen und Informationen rund um ADOGRC \n\nGelegenheit zum Austausch & Networking \n\nFrankfurt mit Skyline-Blick \nJetzt registrieren\n\n                \n                        \n                             \n                        \n                        PhoneDieses Feld dient zur Validierung und sollte nicht verändert werden.Form of address*Anrede *FrauHerrFirst Name*Last Name*Email*\n                            \n                        Organization/Company*Dieses Feld wird bei der Anzeige des Formulars ausgeblendetSala de AE con ADOITCountry*Land *AfghanistanAlbaniaAlgeriaAmerican SamoaAndorraAngolaAntigua and BarbudaArgentinaArmeniaAustraliaAustriaAzerbaijanBahamasBahrainBangladeshBarbadosBelarusBelgiumBelizeBeninBermudaBhutanBoliviaBosnia and HerzegovinaBotswanaBrazilBruneiBulgariaBurkina FasoBurundiCambodiaCameroonCanadaCape VerdeCayman IslandsCentral African RepublicChadChileChinaColombiaComorosCongo\, Democratic Republic of theCongo\, Republic of theCosta RicaCroatiaCubaCuraçaoCyprusCzech RepublicCôte d'IvoireDenmarkDjiboutiDominicaDominican RepublicEast TimorEcuadorEgyptEl SalvadorEquatorial GuineaEritreaEstoniaEthiopiaFaroe IslandsFijiFinlandFranceFrench PolynesiaGabonGambiaGeorgiaGermanyGhanaGreeceGreenlandGrenadaGuamGuatemalaGuineaGuinea-BissauGuyanaHaitiHondurasHong KongHungaryIcelandIndiaIndonesiaIranIraqIrelandIsraelItalyJamaicaJapanJordanKazakhstanKenyaKiribatiKosovoKuwaitKyrgyzstanLaosLatviaLebanonLesothoLiberiaLibyaLiechtensteinLithuaniaLuxembourgMacedoniaMadagascarMalawiMalaysiaMaldivesMaliMaltaMarshall IslandsMauritaniaMauritiusMexicoMicronesiaMoldovaMonacoMongoliaMontenegroMoroccoMozambiqueMyanmarNamibiaNauruNepalNetherlandsNew ZealandNicaraguaNigerNigeriaNorth KoreaNorthern Mariana IslandsNorwayOmanPakistanPalauPalestine\, State ofPanamaPapua New GuineaParaguayPeruPhilippinesPolandPortugalPuerto RicoQatarRomaniaRussiaRwandaSaint Kitts and NevisSaint LuciaSaint Vincent and the GrenadinesSamoaSan MarinoSao Tome and PrincipeSaudi ArabiaSenegalSerbiaSeychellesSierra LeoneSingaporeSint MaartenSlovakiaSloveniaSolomon IslandsSomaliaSouth AfricaSouth KoreaSpainSri LankaSudanSudan\, SouthSurinameSwazilandSwedenSwitzerlandSyriaTaiwanTajikistanTanzaniaThailandTogoTongaTrinidad and TobagoTunisiaTurkeyTurkmenistanTuvaluUgandaUkraineUnited Arab EmiratesUnited KingdomUnited StatesUruguayUzbekistanVanuatuVatican CityVenezuelaVietnamVirgin Islands\, BritishVirgin Islands\, U.S.YemenZambiaZimbabwePhoneDieses Feld wird bei der Anzeige des Formulars ausgeblendetRAT LocationIch werde an der Veranstaltung teilnehmen inMessageNutzungsbedingungen*\n								\n								Mit Absenden dieser Anfrage stimme ich den  Nutzungsbedingungen  und der  Datenschutzerklärung  der BOC Group zu.
URL:https://www.boc-group.com/de/event/grc-excellence-circle-frankfurt-2025/
LOCATION:OutOfOffice Frankfurt Sachsenhausen\, Geleitstr. 14\, 60599 Frankfurt
CATEGORIES:ADOGRC
ATTACH;FMTTYPE=image/jpeg:https://www.boc-group.com/wp-content/uploads/2025/05/PEC-Frankfurt-2025-1.jpg
END:VEVENT
END:VCALENDAR