BEGIN:VCALENDAR
VERSION:2.0
PRODID:-//www.boc-group.com - ECPv6.15.20//NONSGML v1.0//EN
CALSCALE:GREGORIAN
METHOD:PUBLISH
X-WR-CALNAME:www.boc-group.com
X-ORIGINAL-URL:https://www.boc-group.com/de/
X-WR-CALDESC:Veranstaltungen für www.boc-group.com
REFRESH-INTERVAL;VALUE=DURATION:PT1H
X-Robots-Tag:noindex
X-PUBLISHED-TTL:PT1H
BEGIN:VTIMEZONE
TZID:UTC
BEGIN:STANDARD
TZOFFSETFROM:+0000
TZOFFSETTO:+0000
TZNAME:UTC
DTSTART:20250101T000000
END:STANDARD
END:VTIMEZONE
BEGIN:VEVENT
DTSTART;TZID=UTC:20261119T080000
DTEND;TZID=UTC:20261120T180000
DTSTAMP:20260424T212539
CREATED:20260223T075814Z
LAST-MODIFIED:20260223T075814Z
UID:150909-1795075200-1795197600@www.boc-group.com
SUMMARY:BOC Group am PzM Summit 2026
DESCRIPTION:Die BOC Group freut sich\, auch in diesem Jahr Teil des Prozessmanagement Summit (PzM Summit) zu sein. Als langjähriger Kooperationspartner der Gesellschaft für Prozessmanagement ist diese Veranstaltung ein Fixpunkt im Jahreskalender. \nDer PzM Summit 2026 findet am 19. und 20. November statt und bietet wie gewohnt spannende Best-Practice-Vorträge\, Expertenseminare und zahlreiche Möglichkeiten zum Austausch rund um aktuelle Entwicklungen im Prozessmanagement. \nAn beiden Veranstaltungstagen stehen unseren Besucher:innen zudem die Berater:innen der BOC Group am Infostand für persönliche Auskünfte und Beratung zur Verfügung. Sie informieren über unsere führenden Softwarelösungen ADONIS für Business Process Management\, ADOIT für Enterprise Architecture Management und ADOGRC für Governance\, Risk & Compliance. Darüber hinaus geben sie Einblicke in unsere maßgeschneiderten Beratungsleistungen\, mit denen Unternehmen ihre Prozesse effizienter\, sicherer und zukunftsfähiger gestalten können. \nWeitere Informationen zum PzM Summit finden Sie auf der Website der Gesellschaft für Prozessmanagement.
URL:https://www.boc-group.com/de/event/boc-group-am-pzm-summit-2026/
LOCATION:Orangerie Schönbrunn
CATEGORIES:ADONIS
ATTACH;FMTTYPE=image/webp:https://www.boc-group.com/wp-content/uploads/2026/02/Tool-Master-der-Gesellschaft-fur-Prozessmanagement.webp
END:VEVENT
END:VCALENDAR