BEGIN:VCALENDAR
VERSION:2.0
PRODID:-//www.boc-group.com - ECPv6.15.20//NONSGML v1.0//EN
CALSCALE:GREGORIAN
METHOD:PUBLISH
X-ORIGINAL-URL:https://www.boc-group.com/de/
X-WR-CALDESC:Veranstaltungen für www.boc-group.com
REFRESH-INTERVAL;VALUE=DURATION:PT1H
X-Robots-Tag:noindex
X-PUBLISHED-TTL:PT1H
BEGIN:VTIMEZONE
TZID:UTC
BEGIN:STANDARD
TZOFFSETFROM:+0000
TZOFFSETTO:+0000
TZNAME:UTC
DTSTART:20230101T000000
END:STANDARD
END:VTIMEZONE
BEGIN:VEVENT
DTSTART;TZID=UTC:20251119T080000
DTEND;TZID=UTC:20251120T180000
DTSTAMP:20260424T225404
CREATED:20251020T081710Z
LAST-MODIFIED:20251020T081818Z
UID:138248-1763539200-1763661600@www.boc-group.com
SUMMARY:BOC Group am PzM Summit 2025: Best Practice Vortrag mit den Österreichischen Lotterien
DESCRIPTION:BOC Group am PzM Summit 2025: Best Practice Vortrag mit den Österreichischen LotterienDie BOC Group freut sich\, auch in diesem Jahr Teil des Prozessmanagement Summit (PzM Summit) zu sein. Als langjähriger Kooperationspartner der Gesellschaft für Prozessmanagement ist diese Veranstaltung ein Fixpunkt im Jahreskalender. \nDer PzM Summit 2025 findet am 19. und 20. November statt und bietet wie gewohnt spannende Best-Practice-Vorträge\, Expertenseminare und zahlreiche Möglichkeiten zum Austausch rund um aktuelle Entwicklungen im Prozessmanagement. \nAm ersten Veranstaltungstag\, dem 19. November 2025 um 14:45 Uhr\, präsentieren Stephan Dolnik (Corporate Processes – Expert Processmanagement bei Casinos Austria AG) und Thomas Böckl (Senior Consultant bei BOC Österreich) einen Best-Practice-Vortrag mit dem Titel „Continuous Improvement Process“. Darin zeigen sie\, wie die Österreichische Lotterien Gruppe seit 2010 ein ganzheitliches Prozessmanagement etabliert hat. Alle Prozesse werden in ADONIS modelliert und mithilfe eines Workflows regelmäßig überprüft und aktualisiert. \nSeit 2024 wird zusätzlich ein kontinuierlicher Verbesserungsprozess umgesetzt\, der auf der Unternehmensstrategie aufbaut. Dafür wurden Schlüsselprozesse identifiziert\, die von operativen Prozess-Teams gemessen\, gesteuert und laufend weiterentwickelt werden. Auf strategischer Ebene wird der aktuelle Status regelmäßig im Management-Board behandelt\, wodurch die Einbindung aller Ebenen – von den Fachexpert:innen bis zur Vorstandsebene – sichergestellt ist. Neben ADONIS werden auch Microsoft-Werkzeuge wie SharePoint\, Teams\, Power BI und Power Automate eingesetzt\, um ein durchgängiges und effizientes Prozessmanagement-Ökosystem zu schaffen. \nAn beiden Veranstaltungstagen stehen Besucher:innen zudem Mag. Ewald Augustin (Senior Management Consultant)\, Ines Heidecker (Senior Consultant) und Nikolas Spiegel (Consultant) am Infostand der BOC Group zur Verfügung. Sie informieren über unsere führenden Softwarelösungen ADONIS für Business Process Management\, ADOIT für Enterprise Architecture Management und ADOGRC für Governance\, Risk & Compliance. Darüber hinaus geben sie Einblicke in unsere maßgeschneiderten Beratungsleistungen\, mit denen Unternehmen ihre Prozesse effizienter\, sicherer und zukunftsfähiger gestalten können. \nWeitere Informationen zum PzM Summit finden Sie auf der Website der Gesellschaft für Prozessmanagement. \nJETZT anmelden
URL:https://www.boc-group.com/de/event/pzm-summit-2025-best-practice-vortrag-mit-den-oesterreichischen-lotterien/
LOCATION:Orangerie Schönbrunn
CATEGORIES:ADONIS
ATTACH;FMTTYPE=image/webp:https://www.boc-group.com/wp-content/uploads/2025/10/Tool-Master-der-Gesellschaft-fur-Prozessmanagement.webp
END:VEVENT
BEGIN:VEVENT
DTSTART;TZID=UTC:20241113T080000
DTEND;TZID=UTC:20241114T180000
DTSTAMP:20260424T225404
CREATED:20241029T094535Z
LAST-MODIFIED:20241029T094535Z
UID:108602-1731484800-1731607200@www.boc-group.com
SUMMARY:BOC Group am PzM Summit 2024: Best Practice Vortrag mit unserem Kunden MED-EL
DESCRIPTION:Diese Konferenz findet an zwei Tagen statt:\n 13. November 2024 08:00 – 18:00 & 14. November 2024 08:00 – 18:00 \nDie BOC Group freut sich\, auch in diesem Jahr Teil des Prozessmanagement Summit (PzM Summit) zu sein. Als langjähriger Kooperationspartner der Gesellschaft für Prozessmanagement ist diese Veranstaltung ein Fixpunkt im Jahreskalender. Der PzM Summit 2024 findet am 13. und 14. November statt und bietet spannende Best Practice Vorträge und Expertenseminare. \nAm ersten Tag\, 13. November 2024 um 10:30 Uhr\, präsentieren Klaus Schartner (Operations Manager\, Digital Development bei MED-EL) und Thomas Böckl (Senior Management Consultant bei BOC Österreich) einen beeindruckenden Best Practice Vortrag mit dem Titel: \n„Bottom-Up – geht nicht\, gibt’s nicht!“ \nGemeinsam zeigen sie\, wie MED-EL\, ein globaler Anbieter von Hörimplantaten\, erfolgreich ein Prozessmanagementsystem eingeführt hat – initiiert von den Mitarbeitern und ohne direkten Impuls vom Management. Der Vortrag thematisiert: \n\nDie Beweggründe und Ziele des Projekts\nDie angewandten Methoden und erzielten Ergebnisse\nHerausforderungen bei der Implementierung und wie diese gemeistert wurden\n\nNeben den inspirierenden Einblicken in die Erfolgsgeschichte von MED-EL teilen Klaus Schartner und Thomas Böckl praxisnahe Empfehlungen\, wie Unternehmen Schritt für Schritt ein effektives Prozessmanagementsystem aufbauen können – und zeigen dabei\, wie auch scheinbar unüberwindbare Herausforderungen gemeistert werden können. \nAn beiden Veranstaltungstagen stehen Ihnen zudem Mag. Ewald Augustin (Senior Management Consultant) und Moritz Mungenast (Consultant) am Infostand der BOC Group zur Verfügung. Sie beraten Sie umfassend zu unseren führenden Softwarelösungen: ADONIS für Business Process Management\, ADOIT für Enterprise Architecture Management und ADOGRC für Governance\, Risk & Compliance. Zusätzlich erhalten Sie Einblicke in unsere maßgeschneiderten Service- und Beratungsleistungen\, die Unternehmen dabei unterstützen\, ihre Prozesse effizienter\, sicherer und zukunftssicher zu gestalten. \nWeitere Informationen zum PzM Summit finden Sie auf der Website der Gesellschaft für Prozessmanagement. \nMehr erfahren
URL:https://www.boc-group.com/de/event/boc-group-am-pzm-summit-2024-best-practice-vortrag-mit-unserem-kunden-med-el/
LOCATION:Orangerie Schönbrunn
CATEGORIES:ADONIS,ADOGRC
ATTACH;FMTTYPE=image/png:https://www.boc-group.com/wp-content/uploads/2022/11/Conference_314449310.png
END:VEVENT
END:VCALENDAR