BEGIN:VCALENDAR
VERSION:2.0
PRODID:-//www.boc-group.com - ECPv6.15.20//NONSGML v1.0//EN
CALSCALE:GREGORIAN
METHOD:PUBLISH
X-WR-CALNAME:www.boc-group.com
X-ORIGINAL-URL:https://www.boc-group.com/de/
X-WR-CALDESC:Veranstaltungen für www.boc-group.com
REFRESH-INTERVAL;VALUE=DURATION:PT1H
X-Robots-Tag:noindex
X-PUBLISHED-TTL:PT1H
BEGIN:VTIMEZONE
TZID:UTC
BEGIN:STANDARD
TZOFFSETFROM:+0000
TZOFFSETTO:+0000
TZNAME:UTC
DTSTART:20250101T000000
END:STANDARD
END:VTIMEZONE
BEGIN:VEVENT
DTSTART;TZID=UTC:20260520T093000
DTEND;TZID=UTC:20260520T160000
DTSTAMP:20260424T171855
CREATED:20251117T083837Z
LAST-MODIFIED:20251117T083837Z
UID:142166-1779269400-1779292800@www.boc-group.com
SUMMARY:Process Excellence Circle BERLIN 2026
DESCRIPTION:Werden Sie Teil eines einzigartigen Events\, bei dem Expertinnen und Experten aus Ihrer Region zusammenkommen. Tauschen Sie sich über Best Practices und Lessons Learned aus und erleben Sie das inspirierende „Network & Exchange“ in Berlin! \nIm Mittelpunkt: Das Thema Prozessmanagement. \nWas Sie erwartet: \n\nFesselnde\, interaktive Vorträge unserer Kundinnen und Kunden \nExklusive Einblicke und Informationen rund um das Prozessmanagement und ADONIS\nGelegenheit zum Austausch & Networking \n\nIm Herzen von Berlin Schöneberg \nGet-Together zum AusklangJetzt registrieren\n\n                \n                        \n                             \n                        \n                        PhoneDieses Feld dient zur Validierung und sollte nicht verändert werden.Form of address*Anrede *FrauHerrFirst Name*Last Name*Email*\n                            \n                        Organization/Company*Dieses Feld wird bei der Anzeige des Formulars ausgeblendetSala de AE con ADOITCountry*Land *AfghanistanAlbaniaAlgeriaAmerican SamoaAndorraAngolaAntigua and BarbudaArgentinaArmeniaAustraliaAustriaAzerbaijanBahamasBahrainBangladeshBarbadosBelarusBelgiumBelizeBeninBermudaBhutanBoliviaBosnia and HerzegovinaBotswanaBrazilBruneiBulgariaBurkina FasoBurundiCambodiaCameroonCanadaCape VerdeCayman IslandsCentral African RepublicChadChileChinaColombiaComorosCongo\, Democratic Republic of theCongo\, Republic of theCosta RicaCroatiaCubaCuraçaoCyprusCzech RepublicCôte d'IvoireDenmarkDjiboutiDominicaDominican RepublicEast TimorEcuadorEgyptEl SalvadorEquatorial GuineaEritreaEstoniaEthiopiaFaroe IslandsFijiFinlandFranceFrench PolynesiaGabonGambiaGeorgiaGermanyGhanaGreeceGreenlandGrenadaGuamGuatemalaGuineaGuinea-BissauGuyanaHaitiHondurasHong KongHungaryIcelandIndiaIndonesiaIranIraqIrelandIsraelItalyJamaicaJapanJordanKazakhstanKenyaKiribatiKosovoKuwaitKyrgyzstanLaosLatviaLebanonLesothoLiberiaLibyaLiechtensteinLithuaniaLuxembourgMacedoniaMadagascarMalawiMalaysiaMaldivesMaliMaltaMarshall IslandsMauritaniaMauritiusMexicoMicronesiaMoldovaMonacoMongoliaMontenegroMoroccoMozambiqueMyanmarNamibiaNauruNepalNetherlandsNew ZealandNicaraguaNigerNigeriaNorth KoreaNorthern Mariana IslandsNorwayOmanPakistanPalauPalestine\, State ofPanamaPapua New GuineaParaguayPeruPhilippinesPolandPortugalPuerto RicoQatarRomaniaRussiaRwandaSaint Kitts and NevisSaint LuciaSaint Vincent and the GrenadinesSamoaSan MarinoSao Tome and PrincipeSaudi ArabiaSenegalSerbiaSeychellesSierra LeoneSingaporeSint MaartenSlovakiaSloveniaSolomon IslandsSomaliaSouth AfricaSouth KoreaSpainSri LankaSudanSudan\, SouthSurinameSwazilandSwedenSwitzerlandSyriaTaiwanTajikistanTanzaniaThailandTogoTongaTrinidad and TobagoTunisiaTurkeyTurkmenistanTuvaluUgandaUkraineUnited Arab EmiratesUnited KingdomUnited StatesUruguayUzbekistanVanuatuVatican CityVenezuelaVietnamVirgin Islands\, BritishVirgin Islands\, U.S.YemenZambiaZimbabwePhoneDieses Feld wird bei der Anzeige des Formulars ausgeblendetRAT LocationIch werde an der Veranstaltung teilnehmen inMessageNutzungsbedingungen*\n								\n								Mit Absenden dieser Anfrage stimme ich den  Nutzungsbedingungen  und der  Datenschutzerklärung  der BOC Group zu.
URL:https://www.boc-group.com/de/event/process-excellence-circle-berlin-2026/
LOCATION:kabus46\, Wilhelm-Kabus-Str. 46 | Naumannpark Haus 12\, Berlin\, 10829
CATEGORIES:ADONIS
ATTACH;FMTTYPE=image/webp:https://www.boc-group.com/wp-content/uploads/2025/11/PEC-Berlin-2026.webp
END:VEVENT
END:VCALENDAR