BEGIN:VCALENDAR
VERSION:2.0
PRODID:-//www.boc-group.com - ECPv6.15.20//NONSGML v1.0//EN
CALSCALE:GREGORIAN
METHOD:PUBLISH
X-WR-CALNAME:www.boc-group.com
X-ORIGINAL-URL:https://www.boc-group.com/de/
X-WR-CALDESC:Veranstaltungen für www.boc-group.com
REFRESH-INTERVAL;VALUE=DURATION:PT1H
X-Robots-Tag:noindex
X-PUBLISHED-TTL:PT1H
BEGIN:VTIMEZONE
TZID:UTC
BEGIN:STANDARD
TZOFFSETFROM:+0000
TZOFFSETTO:+0000
TZNAME:UTC
DTSTART:20240101T000000
END:STANDARD
END:VTIMEZONE
BEGIN:VEVENT
DTSTART;TZID=UTC:20251008T090000
DTEND;TZID=UTC:20251008T160000
DTSTAMP:20260424T212740
CREATED:20250626T120820Z
LAST-MODIFIED:20250626T120820Z
UID:129273-1759914000-1759939200@www.boc-group.com
SUMMARY:Kompass ADONIS – Wissen teilen. Prozesse gestalten. Zukunft kommunal denken.
DESCRIPTION:Am 08. Oktober 2025 lädt die BOC Deutschland zum exklusiven Event für kommunale ADONIS-Kund:innen aus ganz Deutschland ein: Kompass ADONIS – Wissen teilen. Prozesse gestalten. Zukunft kommunal denken. \nIm Mittelpunkt: Das Thema Prozessmanagement in der Kommunalverwaltung \nWas Sie erwartet: \n\nInspirierende Vorträge und praxisnahe Beiträge zu effizientem Prozessmanagement in der Kommunalverwaltung\nInteraktive Diskussionen\nMöglichkeiten zum Networking mit anderen Kommunen\nKostenfreie Verpflegung während der gesamten Veranstaltung\nAusstellung einer Teilnahmebestätigung\n\nNutzen Sie die Gelegenheit\, um Ihr Netzwerk zu erweitern\, innovative Ansätze kennenzulernen und gemeinsam neue Perspektiven für die kommunale Verwaltung zu entwickeln. \nSeien Sie dabei und sichern Sie sich bis zum 01.10.2025 Ihren Platz! \nJetzt registrieren\n\n                \n                        \n                             \n                        \n                        URLDieses Feld dient zur Validierung und sollte nicht verändert werden.Form of address*Anrede *FrauHerrFirst Name*Last Name*Email*\n                            \n                        Organization/Company*Dieses Feld wird bei der Anzeige des Formulars ausgeblendetSala de AE con ADOITCountry*Land *AfghanistanAlbaniaAlgeriaAmerican SamoaAndorraAngolaAntigua and BarbudaArgentinaArmeniaAustraliaAustriaAzerbaijanBahamasBahrainBangladeshBarbadosBelarusBelgiumBelizeBeninBermudaBhutanBoliviaBosnia and HerzegovinaBotswanaBrazilBruneiBulgariaBurkina FasoBurundiCambodiaCameroonCanadaCape VerdeCayman IslandsCentral African RepublicChadChileChinaColombiaComorosCongo\, Democratic Republic of theCongo\, Republic of theCosta RicaCroatiaCubaCuraçaoCyprusCzech RepublicCôte d'IvoireDenmarkDjiboutiDominicaDominican RepublicEast TimorEcuadorEgyptEl SalvadorEquatorial GuineaEritreaEstoniaEthiopiaFaroe IslandsFijiFinlandFranceFrench PolynesiaGabonGambiaGeorgiaGermanyGhanaGreeceGreenlandGrenadaGuamGuatemalaGuineaGuinea-BissauGuyanaHaitiHondurasHong KongHungaryIcelandIndiaIndonesiaIranIraqIrelandIsraelItalyJamaicaJapanJordanKazakhstanKenyaKiribatiKosovoKuwaitKyrgyzstanLaosLatviaLebanonLesothoLiberiaLibyaLiechtensteinLithuaniaLuxembourgMacedoniaMadagascarMalawiMalaysiaMaldivesMaliMaltaMarshall IslandsMauritaniaMauritiusMexicoMicronesiaMoldovaMonacoMongoliaMontenegroMoroccoMozambiqueMyanmarNamibiaNauruNepalNetherlandsNew ZealandNicaraguaNigerNigeriaNorth KoreaNorthern Mariana IslandsNorwayOmanPakistanPalauPalestine\, State ofPanamaPapua New GuineaParaguayPeruPhilippinesPolandPortugalPuerto RicoQatarRomaniaRussiaRwandaSaint Kitts and NevisSaint LuciaSaint Vincent and the GrenadinesSamoaSan MarinoSao Tome and PrincipeSaudi ArabiaSenegalSerbiaSeychellesSierra LeoneSingaporeSint MaartenSlovakiaSloveniaSolomon IslandsSomaliaSouth AfricaSouth KoreaSpainSri LankaSudanSudan\, SouthSurinameSwazilandSwedenSwitzerlandSyriaTaiwanTajikistanTanzaniaThailandTogoTongaTrinidad and TobagoTunisiaTurkeyTurkmenistanTuvaluUgandaUkraineUnited Arab EmiratesUnited KingdomUnited StatesUruguayUzbekistanVanuatuVatican CityVenezuelaVietnamVirgin Islands\, BritishVirgin Islands\, U.S.YemenZambiaZimbabwePhoneDieses Feld wird bei der Anzeige des Formulars ausgeblendetRAT LocationIch werde an der Veranstaltung teilnehmen inMessageNutzungsbedingungen*\n								\n								Mit Absenden dieser Anfrage stimme ich den  Nutzungsbedingungen  und der  Datenschutzerklärung  der BOC Group zu.
URL:https://www.boc-group.com/de/event/kompass-adonis-wissen-teilen-prozesse-gestalten-zukunft-kommunal-denken/
LOCATION:Immer und Edel\, Dammstraße 30\, 47119 Duisburg
CATEGORIES:ADONIS
ATTACH;FMTTYPE=image/png:https://www.boc-group.com/wp-content/uploads/2025/06/Kompass-ADONIS-–-Wissen-teilen.-Prozesse-gestalten.-Zukunft-kommunal-denken.png
END:VEVENT
END:VCALENDAR