BEGIN:VCALENDAR
VERSION:2.0
PRODID:-//www.boc-group.com - ECPv6.15.20//NONSGML v1.0//EN
CALSCALE:GREGORIAN
METHOD:PUBLISH
X-ORIGINAL-URL:https://www.boc-group.com/de/
X-WR-CALDESC:Veranstaltungen für www.boc-group.com
REFRESH-INTERVAL;VALUE=DURATION:PT1H
X-Robots-Tag:noindex
X-PUBLISHED-TTL:PT1H
BEGIN:VTIMEZONE
TZID:UTC
BEGIN:STANDARD
TZOFFSETFROM:+0000
TZOFFSETTO:+0000
TZNAME:UTC
DTSTART:20240101T000000
END:STANDARD
END:VTIMEZONE
BEGIN:VEVENT
DTSTART;TZID=UTC:20260317T090000
DTEND;TZID=UTC:20260317T170000
DTSTAMP:20260424T195833
CREATED:20260115T152642Z
LAST-MODIFIED:20260219T113842Z
UID:147583-1773738000-1773766800@www.boc-group.com
SUMMARY:BOC Group auf der CON•ECT EAM 2026
DESCRIPTION:Am 17. März 2026 ist die BOC Group Aussteller und Sponsor der Enterprise Architecture Management Konferenz. Im Mittelpunkt steht unser praxisnaher Vortrag\, den wir gemeinsam mit der ENGEL Austria GmbH gestalten. \nKarl Jechtl (ENGEL Austria GmbH\, DI) und Julia Penkner (ENGEL Austria GmbH) gemeinsam mit Christian Höllwieser (BOC Group) zeigen in diesem Vortrag\, wie der Weg vom klassischen Enterprise Architecture Ansatz hin zu einem unternehmensweiten „Enterprise Wiki“ erfolgreich gestaltet werden kann. \nEnterprise Architecture reloaded – der Weg zum Enterprise Wiki\nIn diesem Vortrag erfahren Sie: \n\n\n\nEAM vs. Enterprise Wiki: 2 Welten mit unterschiedlichen Herausforderungen\n\nEAM: nur was für “Experten” (Königreich der Architekten)\, sehr “theoretisch”\, Alltagstauglichkeit?\, Kosten/Nutzen-Rechnung?\nEnterprise Wiki: redundante bzw. veraltete Strukturen bzw. Daten\, Silo-Denken\, hoher Aufwand\nZielbild: EAM und Enterprise Wiki arbeiten Hand in Hand und stärken sich so gegenseitig\n\n\nWiki Kochrezept (zur Nachahmung empfohlen)\n\nErstelle einen global gültigen “Wiki-Bauplan” d.h. eine Art “Digital Company Landscape BIG PICTURE“\nOrganisiere den Content\, um den es gehen soll:\nDatenquellen gemäß Wiki-Bauplan\, Zuständigkeiten (Data Owner)\, einheitlicher Content-Lifecycle\, period. Qualitätssicherung\nImplementiere eine unternehmensweite – für alle Mitarbeiter nutzbare Lösung auf der Basis von anerkannten Standards und Funktion (Editieren & Verknüpfen\, Freigeben\, Publizieren\, Archivieren)\nFühre das Wiki schrittweise ein\, indem es sich zuerst in einem kleinen Umfeld bewährt und dann weiter global ausgerollt wird\n\n\nWie sieht unser Enterprise WIKI heute aus?\n\n\n\nUnser Messestand: ADOIT 18.0 in Aktion\nBesuchen Sie auch unseren Messestand und entdecken Sie\, wie ADOIT 18.0 mit intelligenter Suche\, integrierter KI und klarer Governance Architektur-Insights schneller bereitstellt und die Transformation gezielt unterstützt. \nDie CON•ECT EAM 2026 ist der zentrale Treffpunkt für führende Köpfe der Unternehmensarchitektur in Österreich. Im Fokus stehen in diesem Jahr künstliche Intelligenz (KI) zur Unterstützung von Enterprise-Architekten\, die Ablösung von Legacy-Systemen\, agile Architekturen sowie Sicherheit und Resilienz von IT-Landschaften. \nWeitere Informationen zur Konferenz finden Sie auf der Website von CON•ECT Eventmanagement. Nutzen Sie die Gelegenheit\, die Vorträgen live zu erleben! \nWir freuen uns darauf\, Sie an unserem Stand zu begrüßen. \nJETZT anmelden
URL:https://www.boc-group.com/de/event/boc-group-auf-der-conect-eam-2026/
LOCATION:Erste Campus\, Am Belvedere 1\, 1100 Wien
CATEGORIES:ADOIT
ATTACH;FMTTYPE=image/jpeg:https://www.boc-group.com/wp-content/uploads/2025/02/BOC-Group-auf-der-CON•ECT-EAM-am-18.-Marz-2025.jpg
END:VEVENT
BEGIN:VEVENT
DTSTART;TZID=UTC:20250318T084500
DTEND;TZID=UTC:20250318T180000
DTSTAMP:20260424T195833
CREATED:20250205T082649Z
LAST-MODIFIED:20250214T103142Z
UID:115587-1742287500-1742320800@www.boc-group.com
SUMMARY:BOC Group auf der CON•ECT EAM am 18. März 2025
DESCRIPTION:Auch dieses Jahr wird die BOC Group\, am 18. März 2025\, Aussteller und Sponsor der IT-Enterprise Architecture Management Konferenz 2025 sein und gemeinsam mit einem langjährigen BOC Kunden einen interessanten Vortrag halten. \nEAM hat sich in der Unternehmenspraxis immer mehr zu einer zentralen Managementdisziplin entwickelt\, die – orientiert an aktuellen Herausforderungen und strategischen Anforderungen – für die notwendigen IT-Transformationen und Innovationen sowie für digitale Transformationsvorhaben das unverzichtbare Fundament im Hinblick auf Planungs-\, Steuerungs- und erfolgreiche Umsetzungsaktivitäten bildet. \nPassend zu den diesjährigen Schwerpunkten der Konferenz hält Helmut Froschauer\, Enterprise Architekt bei der Raiffeisen Software GmbH\, mit der Unterstützung von Christian Höllwieser\, Senior Management Consultant bei der BOC Österreich\, einen spannenden Vortrag über: „EAM zur Unterstützung der IT-Konsolidierung im Raiffeisen-Sektor“ \nDie vielfältige und heterogene Struktur des Raiffeisen-Bankensektors Österreich mit ihren Landesbanken\, IT-Dienstleistern und Spezialinstituten birgt gerade im Zeitalter der Digitalisierung ein großes Optimierungspotenzial. Steigender Wettbewerbs- und Kostendruck\, höhere Anforderungen aus der Regulatorik (DSGVO\, DORA\, AI ACT\, …) und insbesondere die immer größer werdende Komplexität und damit verbundenen steigenden IT-Risiken führten zu Konsolidierungsinitiativen in der IT-Welt bei Raiffeisen. Mit dem Aufbau einer gemeinsamen IT-Strategie\, einer einheitlichen Sichtweise\, Methodik und neuem Tooling – insbesondere durch den Einsatz des EAM-Tools ADOIT – haben sie die Grundlagen für ein erfolgreiches Enterprise Architektur Management geschaffen. Der Raiffeisen-Sektor steht nun am Anfang einer längeren\, nutzenstiftenden Reise für ihre Unternehmensgruppe. \nDie BOC Group ist sehr dankbar für Experten wie Helmut Froschauer\, die über Erfahrungen\, Perspektiven und Motivationen berichten und ihre Erfolgsmethoden mit der EAM-Community teilen. \nWeitere Informationen zur Konferenz finden Sie auf der Website von CON•ECT Eventmanagement. \nNützen Sie die Gelegenheit\, bei diesen spannenden Vorträgen dabei zu sein! Wir würden uns sehr freuen\, Sie in Wien begrüßen zu dürfen! \nJetzt anmelden
URL:https://www.boc-group.com/de/event/boc-group-auf-der-conect-eam-am-18-maerz-2025/
LOCATION:Erste Campus\, Am Belvedere 1\, 1100 Wien
CATEGORIES:ADOIT
ATTACH;FMTTYPE=image/jpeg:https://www.boc-group.com/wp-content/uploads/2025/02/BOC-Group-auf-der-CON•ECT-EAM-am-18.-Marz-2025.jpg
END:VEVENT
END:VCALENDAR