BEGIN:VCALENDAR
VERSION:2.0
PRODID:-//www.boc-group.com - ECPv6.15.20//NONSGML v1.0//EN
CALSCALE:GREGORIAN
METHOD:PUBLISH
X-ORIGINAL-URL:https://www.boc-group.com/de/
X-WR-CALDESC:Veranstaltungen für www.boc-group.com
REFRESH-INTERVAL;VALUE=DURATION:PT1H
X-Robots-Tag:noindex
X-PUBLISHED-TTL:PT1H
BEGIN:VTIMEZONE
TZID:UTC
BEGIN:STANDARD
TZOFFSETFROM:+0000
TZOFFSETTO:+0000
TZNAME:UTC
DTSTART:20240101T000000
END:STANDARD
END:VTIMEZONE
BEGIN:VEVENT
DTSTART;TZID=UTC:20250402T170000
DTEND;TZID=UTC:20250402T190000
DTSTAMP:20260424T183420
CREATED:20250305T081750Z
LAST-MODIFIED:20250305T084042Z
UID:118443-1743613200-1743620400@www.boc-group.com
SUMMARY:Community of Practice Governance\, Risk und Compliance | Erfolgsfaktor Lieferkette: Strategien für Wachstum und Resilienz
DESCRIPTION:Die Community of Practice GRC des SGO-Vereins bietet Unternehmen eine wertvolle Plattform\, um bewährte Methoden\, Tools und Strategien für eine verantwortungsvolle und regelkonforme Unternehmensführung auszutauschen. Nutzen Sie die Gelegenheit\, sich mit Expert:innen zu vernetzen und frische Impulse für Ihr Governance-\, Risk- & Compliance-Management zu gewinnen! \n? Exklusiver BOC Vortrag: Digitale Transformation trifft Risikomanagement – Wie Unternehmen ihre Widerstandsfähigkeit stärken \nIn einer immer stärker vernetzten Welt ist Resilienz der Schlüssel zum Erfolg. Doch wie gelingt es\, externe Risiken frühzeitig zu erkennen und ihnen proaktiv zu begegnen? Erfahren Sie in diesem inspirierenden Vortrag\, wie Unternehmen mit integrierten Managementlösungen ihre Sicherheitsstrategie zukunftssicher aufstellen. \n\nPraxisnah & konkret: Lernen Sie bewährte Methoden und Strategien kennen\, um IKT- und Drittanbieter-Risiken gezielt zu managen.\nErprobte Lösungen: Profitieren Sie von Best Practices aus der digitalen Transformation.\nDirekt umsetzbar: Gewinnen Sie wertvolle Erkenntnisse für eine nachhaltige und widerstandsfähige Unternehmensführung.\n\nSeien Sie dabei und bringen Sie Ihr Risikomanagement auf das nächste Level! \nJetzt anmelden
URL:https://www.boc-group.com/de/event/community-of-practice-governance-risk-und-compliance-erfolgsfaktor-lieferkette-strategien-fuer-wachstum-und-resilienz/
LOCATION:BOC Schweiz\, Home of Innovation\, Stadthausstrasse 14\, Winterthur\, 8400
CATEGORIES:ADOGRC
ATTACH;FMTTYPE=image/png:https://www.boc-group.com/wp-content/uploads/2025/03/Community-of-Practice-Governance-Risk-und-Compliance-_-Erfolgsfaktor-Lieferkette_-Strategien-fur-Wachstum-und-Resilienz.png
END:VEVENT
END:VCALENDAR