BEGIN:VCALENDAR
VERSION:2.0
PRODID:-//www.boc-group.com - ECPv6.15.20//NONSGML v1.0//EN
CALSCALE:GREGORIAN
METHOD:PUBLISH
X-WR-CALNAME:www.boc-group.com
X-ORIGINAL-URL:https://www.boc-group.com/de/
X-WR-CALDESC:Veranstaltungen für www.boc-group.com
REFRESH-INTERVAL;VALUE=DURATION:PT1H
X-Robots-Tag:noindex
X-PUBLISHED-TTL:PT1H
BEGIN:VTIMEZONE
TZID:UTC
BEGIN:STANDARD
TZOFFSETFROM:+0000
TZOFFSETTO:+0000
TZNAME:UTC
DTSTART:20250101T000000
END:STANDARD
END:VTIMEZONE
BEGIN:VEVENT
DTSTART;TZID=UTC:20260610T090000
DTEND;TZID=UTC:20260610T160000
DTSTAMP:20260424T172229
CREATED:20251128T130931Z
LAST-MODIFIED:20251128T131500Z
UID:142814-1781082000-1781107200@www.boc-group.com
SUMMARY:ADOIT Grundlagentraining
DESCRIPTION:Ziel der Veranstaltung: \nGrundlagentraining für die Anwendung von ADOIT durch grundlegende Kenntnisse über Modellierung\, Analyse\, Erstellung von Sichten und Reports. \n\nVermittlung von grundlegenden Werkzeugkonzepten und zentralen Funktionen von ADOIT\nStrukturierung des ADOIT-Repositories\nEinführung in das Anwendungsportfolio-Management: Erfassung von Objekten\nAnalysen\, Sichten und Reports erstellen\nEinführung in das Master Data-Management: Erstellung von CRUD-Matrizen\nEigenständige Bearbeitung von Übungsbeispielen und gemeinsame Diskussion\n\nInhalt: \n\nFunktionalitäten und Werkzeugkonzepte\nEinführende Beispiele in die Modellierung von Architekturen\n\nVorkenntnisse: keine Vorkenntnisse nötig \nAnmeldungMelden Sie sich hier für unsere Schulungen an. Unsere Kolleg:innen bestätigen Ihre Anmeldung zeitnah und stehen Ihnen bei Fragen oder speziellen Wünschen jederzeit zur Verfügung. Zögern Sie nicht\, uns eine Nachricht zu hinterlassen – wir helfen Ihnen gerne weiter!\n\n                \n                        \n                             \n                        \n                        CommentsDieses Feld dient zur Validierung und sollte nicht verändert werden.Form of address*Anrede *FrauHerrFirst Name*Last Name*Email*\n                            \n                        Organization/Company*Dieses Feld wird bei der Anzeige des Formulars ausgeblendetSala de AE con ADOITCountry*Land *AfghanistanAlbaniaAlgeriaAmerican SamoaAndorraAngolaAntigua and BarbudaArgentinaArmeniaAustraliaAustriaAzerbaijanBahamasBahrainBangladeshBarbadosBelarusBelgiumBelizeBeninBermudaBhutanBoliviaBosnia and HerzegovinaBotswanaBrazilBruneiBulgariaBurkina FasoBurundiCambodiaCameroonCanadaCape VerdeCayman IslandsCentral African RepublicChadChileChinaColombiaComorosCongo\, Democratic Republic of theCongo\, Republic of theCosta RicaCroatiaCubaCuraçaoCyprusCzech RepublicCôte d'IvoireDenmarkDjiboutiDominicaDominican RepublicEast TimorEcuadorEgyptEl SalvadorEquatorial GuineaEritreaEstoniaEthiopiaFaroe IslandsFijiFinlandFranceFrench PolynesiaGabonGambiaGeorgiaGermanyGhanaGreeceGreenlandGrenadaGuamGuatemalaGuineaGuinea-BissauGuyanaHaitiHondurasHong KongHungaryIcelandIndiaIndonesiaIranIraqIrelandIsraelItalyJamaicaJapanJordanKazakhstanKenyaKiribatiKosovoKuwaitKyrgyzstanLaosLatviaLebanonLesothoLiberiaLibyaLiechtensteinLithuaniaLuxembourgMacedoniaMadagascarMalawiMalaysiaMaldivesMaliMaltaMarshall IslandsMauritaniaMauritiusMexicoMicronesiaMoldovaMonacoMongoliaMontenegroMoroccoMozambiqueMyanmarNamibiaNauruNepalNetherlandsNew ZealandNicaraguaNigerNigeriaNorth KoreaNorthern Mariana IslandsNorwayOmanPakistanPalauPalestine\, State ofPanamaPapua New GuineaParaguayPeruPhilippinesPolandPortugalPuerto RicoQatarRomaniaRussiaRwandaSaint Kitts and NevisSaint LuciaSaint Vincent and the GrenadinesSamoaSan MarinoSao Tome and PrincipeSaudi ArabiaSenegalSerbiaSeychellesSierra LeoneSingaporeSint MaartenSlovakiaSloveniaSolomon IslandsSomaliaSouth AfricaSouth KoreaSpainSri LankaSudanSudan\, SouthSurinameSwazilandSwedenSwitzerlandSyriaTaiwanTajikistanTanzaniaThailandTogoTongaTrinidad and TobagoTunisiaTurkeyTurkmenistanTuvaluUgandaUkraineUnited Arab EmiratesUnited KingdomUnited StatesUruguayUzbekistanVanuatuVatican CityVenezuelaVietnamVirgin Islands\, BritishVirgin Islands\, U.S.YemenZambiaZimbabwePhoneDieses Feld wird bei der Anzeige des Formulars ausgeblendetRAT LocationIch werde an der Veranstaltung teilnehmen inMessageNutzungsbedingungen*\n								\n								Mit Absenden dieser Anfrage stimme ich den  Nutzungsbedingungen  und der  Datenschutzerklärung  der BOC Group zu.
URL:https://www.boc-group.com/de/event/adoit-grundlagentraining-3/2026-06-10/
LOCATION:BOC Information Technologies Consulting GmbH – Naglerstr. 5\, 10245 Berlin\, Germany
CATEGORIES:ADOIT
ATTACH;FMTTYPE=image/jpeg:https://www.boc-group.com/wp-content/uploads/2024/10/ADOIT-Grundlagentraining-Physical.jpg
END:VEVENT
BEGIN:VEVENT
DTSTART;TZID=UTC:20260929T090000
DTEND;TZID=UTC:20260929T160000
DTSTAMP:20260424T172229
CREATED:20251128T130931Z
LAST-MODIFIED:20251128T131501Z
UID:142815-1790672400-1790697600@www.boc-group.com
SUMMARY:ADOIT Grundlagentraining
DESCRIPTION:Ziel der Veranstaltung: \nGrundlagentraining für die Anwendung von ADOIT durch grundlegende Kenntnisse über Modellierung\, Analyse\, Erstellung von Sichten und Reports. \n\nVermittlung von grundlegenden Werkzeugkonzepten und zentralen Funktionen von ADOIT\nStrukturierung des ADOIT-Repositories\nEinführung in das Anwendungsportfolio-Management: Erfassung von Objekten\nAnalysen\, Sichten und Reports erstellen\nEinführung in das Master Data-Management: Erstellung von CRUD-Matrizen\nEigenständige Bearbeitung von Übungsbeispielen und gemeinsame Diskussion\n\nInhalt: \n\nFunktionalitäten und Werkzeugkonzepte\nEinführende Beispiele in die Modellierung von Architekturen\n\nVorkenntnisse: keine Vorkenntnisse nötig \nAnmeldungMelden Sie sich hier für unsere Schulungen an. Unsere Kolleg:innen bestätigen Ihre Anmeldung zeitnah und stehen Ihnen bei Fragen oder speziellen Wünschen jederzeit zur Verfügung. Zögern Sie nicht\, uns eine Nachricht zu hinterlassen – wir helfen Ihnen gerne weiter!\n                \n                        \n                             \n                        \n                        PhoneDieses Feld dient zur Validierung und sollte nicht verändert werden.Form of address*Anrede *FrauHerrFirst Name*Last Name*Email*\n                            \n                        Organization/Company*Dieses Feld wird bei der Anzeige des Formulars ausgeblendetSala de AE con ADOITCountry*Land *AfghanistanAlbaniaAlgeriaAmerican SamoaAndorraAngolaAntigua and BarbudaArgentinaArmeniaAustraliaAustriaAzerbaijanBahamasBahrainBangladeshBarbadosBelarusBelgiumBelizeBeninBermudaBhutanBoliviaBosnia and HerzegovinaBotswanaBrazilBruneiBulgariaBurkina FasoBurundiCambodiaCameroonCanadaCape VerdeCayman IslandsCentral African RepublicChadChileChinaColombiaComorosCongo\, Democratic Republic of theCongo\, Republic of theCosta RicaCroatiaCubaCuraçaoCyprusCzech RepublicCôte d'IvoireDenmarkDjiboutiDominicaDominican RepublicEast TimorEcuadorEgyptEl SalvadorEquatorial GuineaEritreaEstoniaEthiopiaFaroe IslandsFijiFinlandFranceFrench PolynesiaGabonGambiaGeorgiaGermanyGhanaGreeceGreenlandGrenadaGuamGuatemalaGuineaGuinea-BissauGuyanaHaitiHondurasHong KongHungaryIcelandIndiaIndonesiaIranIraqIrelandIsraelItalyJamaicaJapanJordanKazakhstanKenyaKiribatiKosovoKuwaitKyrgyzstanLaosLatviaLebanonLesothoLiberiaLibyaLiechtensteinLithuaniaLuxembourgMacedoniaMadagascarMalawiMalaysiaMaldivesMaliMaltaMarshall IslandsMauritaniaMauritiusMexicoMicronesiaMoldovaMonacoMongoliaMontenegroMoroccoMozambiqueMyanmarNamibiaNauruNepalNetherlandsNew ZealandNicaraguaNigerNigeriaNorth KoreaNorthern Mariana IslandsNorwayOmanPakistanPalauPalestine\, State ofPanamaPapua New GuineaParaguayPeruPhilippinesPolandPortugalPuerto RicoQatarRomaniaRussiaRwandaSaint Kitts and NevisSaint LuciaSaint Vincent and the GrenadinesSamoaSan MarinoSao Tome and PrincipeSaudi ArabiaSenegalSerbiaSeychellesSierra LeoneSingaporeSint MaartenSlovakiaSloveniaSolomon IslandsSomaliaSouth AfricaSouth KoreaSpainSri LankaSudanSudan\, SouthSurinameSwazilandSwedenSwitzerlandSyriaTaiwanTajikistanTanzaniaThailandTogoTongaTrinidad and TobagoTunisiaTurkeyTurkmenistanTuvaluUgandaUkraineUnited Arab EmiratesUnited KingdomUnited StatesUruguayUzbekistanVanuatuVatican CityVenezuelaVietnamVirgin Islands\, BritishVirgin Islands\, U.S.YemenZambiaZimbabwePhoneDieses Feld wird bei der Anzeige des Formulars ausgeblendetRAT LocationIch werde an der Veranstaltung teilnehmen inMessageNutzungsbedingungen*\n								\n								Mit Absenden dieser Anfrage stimme ich den  Nutzungsbedingungen  und der  Datenschutzerklärung  der BOC Group zu.
URL:https://www.boc-group.com/de/event/adoit-grundlagentraining-3/2026-09-29/
LOCATION:BOC Information Technologies Consulting GmbH – Naglerstr. 5\, 10245 Berlin\, Germany
CATEGORIES:ADOIT
ATTACH;FMTTYPE=image/jpeg:https://www.boc-group.com/wp-content/uploads/2024/10/ADOIT-Grundlagentraining-Physical.jpg
END:VEVENT
BEGIN:VEVENT
DTSTART;TZID=UTC:20261209T090000
DTEND;TZID=UTC:20261209T160000
DTSTAMP:20260424T172229
CREATED:20251128T130931Z
LAST-MODIFIED:20251128T131502Z
UID:142816-1796806800-1796832000@www.boc-group.com
SUMMARY:ADOIT Grundlagentraining
DESCRIPTION:Ziel der Veranstaltung: \nGrundlagentraining für die Anwendung von ADOIT durch grundlegende Kenntnisse über Modellierung\, Analyse\, Erstellung von Sichten und Reports. \n\nVermittlung von grundlegenden Werkzeugkonzepten und zentralen Funktionen von ADOIT\nStrukturierung des ADOIT-Repositories\nEinführung in das Anwendungsportfolio-Management: Erfassung von Objekten\nAnalysen\, Sichten und Reports erstellen\nEinführung in das Master Data-Management: Erstellung von CRUD-Matrizen\nEigenständige Bearbeitung von Übungsbeispielen und gemeinsame Diskussion\n\nInhalt: \n\nFunktionalitäten und Werkzeugkonzepte\nEinführende Beispiele in die Modellierung von Architekturen\n\nVorkenntnisse: keine Vorkenntnisse nötig \nAnmeldungMelden Sie sich hier für unsere Schulungen an. Unsere Kolleg:innen bestätigen Ihre Anmeldung zeitnah und stehen Ihnen bei Fragen oder speziellen Wünschen jederzeit zur Verfügung. Zögern Sie nicht\, uns eine Nachricht zu hinterlassen – wir helfen Ihnen gerne weiter!\n                \n                        \n                             \n                        \n                        FacebookDieses Feld dient zur Validierung und sollte nicht verändert werden.Form of address*Anrede *FrauHerrFirst Name*Last Name*Email*\n                            \n                        Organization/Company*Dieses Feld wird bei der Anzeige des Formulars ausgeblendetSala de AE con ADOITCountry*Land *AfghanistanAlbaniaAlgeriaAmerican SamoaAndorraAngolaAntigua and BarbudaArgentinaArmeniaAustraliaAustriaAzerbaijanBahamasBahrainBangladeshBarbadosBelarusBelgiumBelizeBeninBermudaBhutanBoliviaBosnia and HerzegovinaBotswanaBrazilBruneiBulgariaBurkina FasoBurundiCambodiaCameroonCanadaCape VerdeCayman IslandsCentral African RepublicChadChileChinaColombiaComorosCongo\, Democratic Republic of theCongo\, Republic of theCosta RicaCroatiaCubaCuraçaoCyprusCzech RepublicCôte d'IvoireDenmarkDjiboutiDominicaDominican RepublicEast TimorEcuadorEgyptEl SalvadorEquatorial GuineaEritreaEstoniaEthiopiaFaroe IslandsFijiFinlandFranceFrench PolynesiaGabonGambiaGeorgiaGermanyGhanaGreeceGreenlandGrenadaGuamGuatemalaGuineaGuinea-BissauGuyanaHaitiHondurasHong KongHungaryIcelandIndiaIndonesiaIranIraqIrelandIsraelItalyJamaicaJapanJordanKazakhstanKenyaKiribatiKosovoKuwaitKyrgyzstanLaosLatviaLebanonLesothoLiberiaLibyaLiechtensteinLithuaniaLuxembourgMacedoniaMadagascarMalawiMalaysiaMaldivesMaliMaltaMarshall IslandsMauritaniaMauritiusMexicoMicronesiaMoldovaMonacoMongoliaMontenegroMoroccoMozambiqueMyanmarNamibiaNauruNepalNetherlandsNew ZealandNicaraguaNigerNigeriaNorth KoreaNorthern Mariana IslandsNorwayOmanPakistanPalauPalestine\, State ofPanamaPapua New GuineaParaguayPeruPhilippinesPolandPortugalPuerto RicoQatarRomaniaRussiaRwandaSaint Kitts and NevisSaint LuciaSaint Vincent and the GrenadinesSamoaSan MarinoSao Tome and PrincipeSaudi ArabiaSenegalSerbiaSeychellesSierra LeoneSingaporeSint MaartenSlovakiaSloveniaSolomon IslandsSomaliaSouth AfricaSouth KoreaSpainSri LankaSudanSudan\, SouthSurinameSwazilandSwedenSwitzerlandSyriaTaiwanTajikistanTanzaniaThailandTogoTongaTrinidad and TobagoTunisiaTurkeyTurkmenistanTuvaluUgandaUkraineUnited Arab EmiratesUnited KingdomUnited StatesUruguayUzbekistanVanuatuVatican CityVenezuelaVietnamVirgin Islands\, BritishVirgin Islands\, U.S.YemenZambiaZimbabwePhoneDieses Feld wird bei der Anzeige des Formulars ausgeblendetRAT LocationIch werde an der Veranstaltung teilnehmen inMessageNutzungsbedingungen*\n								\n								Mit Absenden dieser Anfrage stimme ich den  Nutzungsbedingungen  und der  Datenschutzerklärung  der BOC Group zu.
URL:https://www.boc-group.com/de/event/adoit-grundlagentraining-3/2026-12-09/
LOCATION:BOC Information Technologies Consulting GmbH – Naglerstr. 5\, 10245 Berlin\, Germany
CATEGORIES:ADOIT
ATTACH;FMTTYPE=image/jpeg:https://www.boc-group.com/wp-content/uploads/2024/10/ADOIT-Grundlagentraining-Physical.jpg
END:VEVENT
END:VCALENDAR