BEGIN:VCALENDAR
VERSION:2.0
PRODID:-//www.boc-group.com - ECPv6.15.20//NONSGML v1.0//EN
CALSCALE:GREGORIAN
METHOD:PUBLISH
X-WR-CALNAME:www.boc-group.com
X-ORIGINAL-URL:https://www.boc-group.com/de/
X-WR-CALDESC:Veranstaltungen für www.boc-group.com
REFRESH-INTERVAL;VALUE=DURATION:PT1H
X-Robots-Tag:noindex
X-PUBLISHED-TTL:PT1H
BEGIN:VTIMEZONE
TZID:UTC
BEGIN:STANDARD
TZOFFSETFROM:+0000
TZOFFSETTO:+0000
TZNAME:UTC
DTSTART:20240101T000000
END:STANDARD
END:VTIMEZONE
BEGIN:VEVENT
DTSTART;TZID=UTC:20250625T083000
DTEND;TZID=UTC:20250625T120000
DTSTAMP:20260424T224425
CREATED:20250502T064714Z
LAST-MODIFIED:20250502T064714Z
UID:124356-1750840200-1750852800@www.boc-group.com
SUMMARY:EVU Process Forum 2025
DESCRIPTION:Regulierung\, Digitalisierung\, Ressourcenknappheit – wie schaffen EVU den Spagat zwischen Effizienz und Compliance? \nDie Schweizer Energieversorgungsunternehmen (EVU) stehen unter grossem Druck. Einerseits müssen sie ihre Prozesse digitalisieren\, andererseits nimmt die Regulierungsdichte stetig zu. Die Umsetzung der IKT-Minimalstandards ist für viele zur Herausforderung geworden. \nKomplexe Anforderungen\, knappe Ressourcen und hohe Erwartungen von Markt und Gesellschaft erfordern einen neuen Ansatz. \nGenau hier setzt ADOGRC an. \nAls Veranstaltungspartner des «EVU Process Forums» zeigen wir praxisnah\, wie moderne GRC-Tools helfen\, regulatorische Anforderungen effizient und prozessorientiert zu erfüllen – mit minimalem Aufwand und maximaler Wirkung. Unsere Breakout Session liefert konkrete Impulse und zeigt\, wie ADOGRC in der Praxis funktioniert. \nDas sind die Vorträge der Veranstaltung: \n\nStrukturiert zum Ziel – Geschäftsprozessmanagement entlang des BPM-Lebenszyklus. Jonas Freyenmuth\, Senior Consultant und Fachlead EVU\, MINT\nEffiziente Compliance durch Prozesse – Praktische Umsetzung der IKT-Minimalstandards. Alexander Kleinsasser\, Business Development & GRC-Experte\nBenutzerzentrierter Ansatz für Prozessautomatisierungen – Jean-Claude Rühle\, Leiter Prozesse und Digitalisierung\, Stadtwerk Winterthur\nAnsatz zur Prozessoptimierung – Bei End-to-End-Prozessen Effizienzgewinne erzielen. Diego Garigliano\, Geschäftsprozessmanager E2E\, AEW Energie AG\n\nFür wen ist dieses Forum geeignet? \nFür Fach- und Führungskräfte von Energieversorgungsunternehmen\, die Prozesse gestalten\, Risiken managen und regulatorische Anforderungen systematisch erfüllen wollen. \n? Jetzt hier kostenlos anmelden und Platz sichern. \nDie Veranstaltung wird von MINT organisiert – einem führenden Beratungspartner im Bereich Geschäftsprozessmanagement für die Energiewirtschaft.
URL:https://www.boc-group.com/de/event/evu-process-forum-2025/
LOCATION:KV Business School Zürich\, Sihlpostgasse 2\, Zürich\, 8004
CATEGORIES:ADONIS,ADOGRC
ATTACH;FMTTYPE=image/jpeg:https://www.boc-group.com/wp-content/uploads/2025/04/EVU-Process-Forum-2025.jpg
END:VEVENT
END:VCALENDAR