BEGIN:VCALENDAR
VERSION:2.0
PRODID:-//www.boc-group.com - ECPv6.15.20//NONSGML v1.0//EN
CALSCALE:GREGORIAN
METHOD:PUBLISH
X-WR-CALNAME:www.boc-group.com
X-ORIGINAL-URL:https://www.boc-group.com/de/
X-WR-CALDESC:Veranstaltungen für www.boc-group.com
REFRESH-INTERVAL;VALUE=DURATION:PT1H
X-Robots-Tag:noindex
X-PUBLISHED-TTL:PT1H
BEGIN:VTIMEZONE
TZID:UTC
BEGIN:STANDARD
TZOFFSETFROM:+0000
TZOFFSETTO:+0000
TZNAME:UTC
DTSTART:20240101T000000
END:STANDARD
END:VTIMEZONE
BEGIN:VEVENT
DTSTART;TZID=UTC:20250116T173000
DTEND;TZID=UTC:20250116T193000
DTSTAMP:20260424T225201
CREATED:20241120T100520Z
LAST-MODIFIED:20250107T141348Z
UID:110658-1737048600-1737055800@www.boc-group.com
SUMMARY:Innovation im Gesundheitswesen: Prozesse\, KI und Design Thinking im Stadtspital Triemli
DESCRIPTION:Erleben Sie die visionären Entwicklungen in der digitalen Transformation und im Prozessmanagement des Stadtspitals Zürich Triemli. Angesichts der stetig wachsenden Anforderungen an Qualität\, Effizienz und Wirtschaftlichkeit\, besonders im Gesundheitssektor\, präsentieren wir praxisnahe Ansätze\, um Innovationen erfolgreich umzusetzen. \nEntdecken Sie\, wie das Stadtspital Triemli mit kreativen Methoden und moderner KI-Technologie die Patientenversorgung in der Augenheilkunde revolutioniert und\, wie das Spital mit „Prozessmanagement 2.0“ neue Standards setzt. \nAblauf: \n\n17:30 Eintreffen\n17:40 Impulsvortrag: Lean und Design Thinking – Prozessmanagement 2.0 in der Praxis – Peter Kukla\, Leiter Governance & Sandra Knezevic\, Prozessmanagerin\n18:10 Präsentation Workshop-Ergebnisse des Stadtspitals Triemli: Künstliche Intelligenz in der Augenheilkunde – Digitale Transformation für eine bessere Patientenversorgung – Matthias Becker\, Direktor und Leiter der Augenheilkunde\, Gábor Márk Somfai\, Leitender Arzt an der Augenklinik & Amr Saad\, Forschungsassistent\n18:40 Kurzführung durch den Innovation Hub (OMiLAB) mit Show Case\n19:00 Apéro\n\nMehr Informationen zu den Vorträgen: \nKünstliche Intelligenz in der Augenheilkunde: Digitale Transformation für eine bessere Patientenversorgung\nIneffiziente Ressourcennutzung und Prozesse sowie eine zu geringe Anzahl an Augenkliniken führen zu langen Wartezeiten für Patientinnen und Patienten von trockener AMD\, einer chronischen Augenkrankheit. \nDaher untersucht die Augenklinik Einsatzmöglichkeiten von KI-basierten Tools\, welche Diagnostik\, Früherkennung und personalisierte Behandlungspläne unterstützen. Die Augenklinik wird uns Einblicke geben\, wie sie mithilfe von Storyboarding und weiteren Innovationsmethoden ihre zukunftsweisenden Lösungsansätze gestaltet\, um so Effizienz und Patientenzufriedenheit zu steigern. \nMatthias Becker\, Direktor und Leiter der Augenheilkunde\, Stadtspital Zürich \nGábor Márk Somfai\, Leitender Arzt an der Augenklinik\, Stadtspital Zürich \nAmr Saad\, Forschungsassistent\, Stadtspital Zürich \nLean und Design Thinking im Stadtspital Zürich Triemli – Prozessmanagement 2.0 in der Praxis\nDie kontinuierlich wachsenden Anforderungen an Qualität\, Effizienz und Wirtschaftlichkeit in Gesundheitseinrichtungen erfordern neuartige Ansätze zur Optimierung von Prozessen. \nIn diesem Vortrag beleuchten wir\, wie Lean Thinking und Design Thinking im Stadtspital Zürich Triemli erfolgreich kombiniert werden\, um nachhaltige Optimierungen in den Arbeitsprozessen zu erzielen. Anhand praxisnaher Beispiele zeigen wir\, wie diese Ansätze im Stadtspital Zürich Triemli zu einer Kultur der ständigen Weiterentwicklung und Effizienzsteigerung beitragen. \nSandra Knezevic\, Prozessmanagerin\, Stadtspital Zürich \nPeter Kukla\, Leiter Governance\, Stadtspital Zürich \nNach den inspirierenden Vorträgen führen wir Sie durch das Innovation Hub (OMiLAB) der BOC Schweiz. Erleben Sie hier hautnah\, wie Prozessoptimierungen mit innovativen Lösungen für die Praxis umgesetzt werden können. Das OMiLAB bietet eine kreative Umgebung\, in der Ideen für die digitale Transformation lebendig werden. \nZum Abschluss laden wir Sie zu einem üppigen Apéro ein. Nutzen Sie die Gelegenheit\, sich mit Experten und Teilnehmenden auszutauschen und Ihr Netzwerk zu erweitern. \nZielgruppe: Dieser Event richtet sich an Expertinnen\, Experten und Interessierte aus den Bereichen Prozessmanagement\, Unternehmensarchitektur und digitale Transformation sowie an Fach- und Führungskräfte aus dem Gesundheitswesen. \nJetzt registrieren\n\n                \n                        \n                             \n                        \n                        PhoneDieses Feld dient zur Validierung und sollte nicht verändert werden.Form of address*Anrede *FrauHerrFirst Name*Last Name*Email*\n                            \n                        Organization/Company*Dieses Feld wird bei der Anzeige des Formulars ausgeblendetSala de AE con ADOITCountry*Land *AfghanistanAlbaniaAlgeriaAmerican SamoaAndorraAngolaAntigua and BarbudaArgentinaArmeniaAustraliaAustriaAzerbaijanBahamasBahrainBangladeshBarbadosBelarusBelgiumBelizeBeninBermudaBhutanBoliviaBosnia and HerzegovinaBotswanaBrazilBruneiBulgariaBurkina FasoBurundiCambodiaCameroonCanadaCape VerdeCayman IslandsCentral African RepublicChadChileChinaColombiaComorosCongo\, Democratic Republic of theCongo\, Republic of theCosta RicaCroatiaCubaCuraçaoCyprusCzech RepublicCôte d'IvoireDenmarkDjiboutiDominicaDominican RepublicEast TimorEcuadorEgyptEl SalvadorEquatorial GuineaEritreaEstoniaEthiopiaFaroe IslandsFijiFinlandFranceFrench PolynesiaGabonGambiaGeorgiaGermanyGhanaGreeceGreenlandGrenadaGuamGuatemalaGuineaGuinea-BissauGuyanaHaitiHondurasHong KongHungaryIcelandIndiaIndonesiaIranIraqIrelandIsraelItalyJamaicaJapanJordanKazakhstanKenyaKiribatiKosovoKuwaitKyrgyzstanLaosLatviaLebanonLesothoLiberiaLibyaLiechtensteinLithuaniaLuxembourgMacedoniaMadagascarMalawiMalaysiaMaldivesMaliMaltaMarshall IslandsMauritaniaMauritiusMexicoMicronesiaMoldovaMonacoMongoliaMontenegroMoroccoMozambiqueMyanmarNamibiaNauruNepalNetherlandsNew ZealandNicaraguaNigerNigeriaNorth KoreaNorthern Mariana IslandsNorwayOmanPakistanPalauPalestine\, State ofPanamaPapua New GuineaParaguayPeruPhilippinesPolandPortugalPuerto RicoQatarRomaniaRussiaRwandaSaint Kitts and NevisSaint LuciaSaint Vincent and the GrenadinesSamoaSan MarinoSao Tome and PrincipeSaudi ArabiaSenegalSerbiaSeychellesSierra LeoneSingaporeSint MaartenSlovakiaSloveniaSolomon IslandsSomaliaSouth AfricaSouth KoreaSpainSri LankaSudanSudan\, SouthSurinameSwazilandSwedenSwitzerlandSyriaTaiwanTajikistanTanzaniaThailandTogoTongaTrinidad and TobagoTunisiaTurkeyTurkmenistanTuvaluUgandaUkraineUnited Arab EmiratesUnited KingdomUnited StatesUruguayUzbekistanVanuatuVatican CityVenezuelaVietnamVirgin Islands\, BritishVirgin Islands\, U.S.YemenZambiaZimbabwePhoneDieses Feld wird bei der Anzeige des Formulars ausgeblendetRAT LocationIch werde an der Veranstaltung teilnehmen inMessageNutzungsbedingungen*\n								\n								Mit Absenden dieser Anfrage stimme ich den  Nutzungsbedingungen  und der  Datenschutzerklärung  der BOC Group zu.
URL:https://www.boc-group.com/de/event/innovation-im-gesundheitswesen-prozesse-ki-und-design-thinking-im-stadtspital-triemli/
LOCATION:Home of Innovation\, Stadthausstrasse 14\, 8400 Winterthur
CATEGORIES:ADONIS
ATTACH;FMTTYPE=image/jpeg:https://www.boc-group.com/wp-content/uploads/2024/11/Innovation-im-Gesundheitswesen-Conference.jpg
END:VEVENT
END:VCALENDAR